BEGIN:VCALENDAR
VERSION:2.0
PRODID:-//FBC China TX - ECPv6.11.2.1//NONSGML v1.0//EN
CALSCALE:GREGORIAN
METHOD:PUBLISH
X-ORIGINAL-URL:https://fbcchinatexas.com
X-WR-CALDESC:Events for FBC China TX
REFRESH-INTERVAL;VALUE=DURATION:PT1H
X-Robots-Tag:noindex
X-PUBLISHED-TTL:PT1H
BEGIN:VTIMEZONE
TZID:America/Chicago
BEGIN:DAYLIGHT
TZOFFSETFROM:-0600
TZOFFSETTO:-0500
TZNAME:CDT
DTSTART:20240310T080000
END:DAYLIGHT
BEGIN:STANDARD
TZOFFSETFROM:-0500
TZOFFSETTO:-0600
TZNAME:CST
DTSTART:20241103T070000
END:STANDARD
END:VTIMEZONE
BEGIN:VEVENT
DTSTART;TZID=America/Chicago:20240821T180000
DTEND;TZID=America/Chicago:20240821T190000
DTSTAMP:20260420T145238
CREATED:20240718T022138Z
LAST-MODIFIED:20240718T022138Z
UID:29187-1724263200-1724266800@fbcchinatexas.com
SUMMARY:Crosswords - Kids & Youth
DESCRIPTION:A mid-week pick me up for kids and youth! \nA high-energy ministry for kids and youth from kindergarten through 12th grade. Kids learn of God’s unconditional love and salvation through Jesus. It’s an hour of fun\, faith\, and food! Activities begin at 6 pm and conclude at 7 pm. See you there!!
URL:https://fbcchinatexas.com/event/crosswords-kids-youth-28/
LOCATION:FBC China\, TX\, 607 N Broadway\, China\, TX\, 77613\, United States
ATTACH;FMTTYPE=image/jpeg:https://fbcchinatexas.com/wp-content/uploads/2024/01/crosswords-event-6.jpg
ORGANIZER;CN="FBC China%2C TX":MAILTO:fbcchinasocial@gmail.com
END:VEVENT
BEGIN:VEVENT
DTSTART;TZID=America/Chicago:20240814T180000
DTEND;TZID=America/Chicago:20240814T190000
DTSTAMP:20260420T145238
CREATED:20240718T022114Z
LAST-MODIFIED:20240718T022114Z
UID:29185-1723658400-1723662000@fbcchinatexas.com
SUMMARY:Crosswords - Kids & Youth
DESCRIPTION:A mid-week pick me up for kids and youth! \nA high-energy ministry for kids and youth from kindergarten through 12th grade. Kids learn of God’s unconditional love and salvation through Jesus. It’s an hour of fun\, faith\, and food! Activities begin at 6 pm and conclude at 7 pm. See you there!!
URL:https://fbcchinatexas.com/event/crosswords-kids-youth-27/
LOCATION:FBC China\, TX\, 607 N Broadway\, China\, TX\, 77613\, United States
ATTACH;FMTTYPE=image/jpeg:https://fbcchinatexas.com/wp-content/uploads/2024/01/crosswords-event-6.jpg
ORGANIZER;CN="FBC China%2C TX":MAILTO:fbcchinasocial@gmail.com
END:VEVENT
BEGIN:VEVENT
DTSTART;TZID=America/Chicago:20240807T180000
DTEND;TZID=America/Chicago:20240807T190000
DTSTAMP:20260420T145238
CREATED:20240718T022049Z
LAST-MODIFIED:20240718T022049Z
UID:29183-1723053600-1723057200@fbcchinatexas.com
SUMMARY:Crosswords - Kids & Youth
DESCRIPTION:A mid-week pick me up for kids and youth! \nA high-energy ministry for kids and youth from kindergarten through 12th grade. Kids learn of God’s unconditional love and salvation through Jesus. It’s an hour of fun\, faith\, and food! Activities begin at 6 pm and conclude at 7 pm. See you there!!
URL:https://fbcchinatexas.com/event/crosswords-kids-youth-26/
LOCATION:FBC China\, TX\, 607 N Broadway\, China\, TX\, 77613\, United States
ATTACH;FMTTYPE=image/jpeg:https://fbcchinatexas.com/wp-content/uploads/2024/01/crosswords-event-6.jpg
ORGANIZER;CN="FBC China%2C TX":MAILTO:fbcchinasocial@gmail.com
END:VEVENT
BEGIN:VEVENT
DTSTART;TZID=America/Chicago:20240731T180000
DTEND;TZID=America/Chicago:20240731T190000
DTSTAMP:20260420T145238
CREATED:20240630T200236Z
LAST-MODIFIED:20240630T200236Z
UID:29139-1722448800-1722452400@fbcchinatexas.com
SUMMARY:Crosswords - Kids & Youth
DESCRIPTION:A mid-week pick me up for kids and youth! \nA high-energy ministry for kids and youth from kindergarten through 12th grade. Kids learn of God’s unconditional love and salvation through Jesus. It’s an hour of fun\, faith\, and food! Activities begin at 6 pm and conclude at 7 pm. See you there!!
URL:https://fbcchinatexas.com/event/crosswords-kids-youth-25/
LOCATION:FBC China\, TX\, 607 N Broadway\, China\, TX\, 77613\, United States
ATTACH;FMTTYPE=image/jpeg:https://fbcchinatexas.com/wp-content/uploads/2024/01/crosswords-event-6.jpg
ORGANIZER;CN="FBC China%2C TX":MAILTO:fbcchinasocial@gmail.com
END:VEVENT
BEGIN:VEVENT
DTSTART;TZID=America/Chicago:20240724T180000
DTEND;TZID=America/Chicago:20240724T190000
DTSTAMP:20260420T145238
CREATED:20240630T200217Z
LAST-MODIFIED:20240630T200217Z
UID:29137-1721844000-1721847600@fbcchinatexas.com
SUMMARY:Crosswords - Kids & Youth
DESCRIPTION:A mid-week pick me up for kids and youth! \nA high-energy ministry for kids and youth from kindergarten through 12th grade. Kids learn of God’s unconditional love and salvation through Jesus. It’s an hour of fun\, faith\, and food! Activities begin at 6 pm and conclude at 7 pm. See you there!!
URL:https://fbcchinatexas.com/event/crosswords-kids-youth-24/
LOCATION:FBC China\, TX\, 607 N Broadway\, China\, TX\, 77613\, United States
ATTACH;FMTTYPE=image/jpeg:https://fbcchinatexas.com/wp-content/uploads/2024/01/crosswords-event-6.jpg
ORGANIZER;CN="FBC China%2C TX":MAILTO:fbcchinasocial@gmail.com
END:VEVENT
BEGIN:VEVENT
DTSTART;TZID=America/Chicago:20240717T180000
DTEND;TZID=America/Chicago:20240717T190000
DTSTAMP:20260420T145238
CREATED:20240630T200155Z
LAST-MODIFIED:20240630T200155Z
UID:29135-1721239200-1721242800@fbcchinatexas.com
SUMMARY:Crosswords - Kids & Youth
DESCRIPTION:A mid-week pick me up for kids and youth! \nA high-energy ministry for kids and youth from kindergarten through 12th grade. Kids learn of God’s unconditional love and salvation through Jesus. It’s an hour of fun\, faith\, and food! Activities begin at 6 pm and conclude at 7 pm. See you there!!
URL:https://fbcchinatexas.com/event/crosswords-kids-youth-23/
LOCATION:FBC China\, TX\, 607 N Broadway\, China\, TX\, 77613\, United States
ATTACH;FMTTYPE=image/jpeg:https://fbcchinatexas.com/wp-content/uploads/2024/01/crosswords-event-6.jpg
ORGANIZER;CN="FBC China%2C TX":MAILTO:fbcchinasocial@gmail.com
END:VEVENT
BEGIN:VEVENT
DTSTART;TZID=America/Chicago:20240709T180000
DTEND;TZID=America/Chicago:20240712T200000
DTSTAMP:20260420T145238
CREATED:20240518T212246Z
LAST-MODIFIED:20240710T211454Z
UID:28595-1720548000-1720814400@fbcchinatexas.com
SUMMARY:VBS 2024 | Breaker Rock Beach
DESCRIPTION:Vacation Bible School 2024 at First Baptist Church China\, TX\n \nWe are now accepting registrations for our 2024 VBS student event this summer! Join us for Breaker Rock Beach! Adventure awaits as kids explore tide pools\, spot orcas\, fly kites\, and watch the mighty waves crash up against the immovable Breaker Rock! \nRegister online\, invite your friends\, and mark your calendars! \n 
URL:https://fbcchinatexas.com/event/vbs-2024/
LOCATION:FBC China\, TX\, 607 N Broadway\, China\, TX\, 77613\, United States
ATTACH;FMTTYPE=image/png:https://fbcchinatexas.com/wp-content/uploads/2024/02/VBS-2024-Reg-1.png
ORGANIZER;CN="FBC China%2C TX":MAILTO:fbcchinasocial@gmail.com
END:VEVENT
BEGIN:VEVENT
DTSTART;TZID=America/Chicago:20240703T180000
DTEND;TZID=America/Chicago:20240703T190000
DTSTAMP:20260420T145238
CREATED:20240612T020729Z
LAST-MODIFIED:20240612T020729Z
UID:29098-1720029600-1720033200@fbcchinatexas.com
SUMMARY:Crosswords - Kids & Youth
DESCRIPTION:A mid-week pick me up for kids and youth! \nA high-energy ministry for kids and youth from kindergarten through 12th grade. Kids learn of God’s unconditional love and salvation through Jesus. It’s an hour of fun\, faith\, and food! Activities begin at 6 pm and conclude at 7 pm. See you there!!
URL:https://fbcchinatexas.com/event/crosswords-kids-youth-22/
LOCATION:FBC China\, TX\, 607 N Broadway\, China\, TX\, 77613\, United States
ATTACH;FMTTYPE=image/jpeg:https://fbcchinatexas.com/wp-content/uploads/2024/01/crosswords-event-6.jpg
ORGANIZER;CN="FBC China%2C TX":MAILTO:fbcchinasocial@gmail.com
END:VEVENT
BEGIN:VEVENT
DTSTART;TZID=America/Chicago:20240626T180000
DTEND;TZID=America/Chicago:20240626T190000
DTSTAMP:20260420T145238
CREATED:20240518T190229Z
LAST-MODIFIED:20240518T190229Z
UID:28552-1719424800-1719428400@fbcchinatexas.com
SUMMARY:Crosswords - Kids & Youth
DESCRIPTION:A mid-week pick me up for kids and youth! \nA high-energy ministry for kids and youth from kindergarten through 12th grade. Kids learn of God’s unconditional love and salvation through Jesus. It’s an hour of fun\, faith\, and food! Activities begin at 6 pm and conclude at 7 pm. See you there!!
URL:https://fbcchinatexas.com/event/crosswords-kids-youth-21/
LOCATION:FBC China\, TX\, 607 N Broadway\, China\, TX\, 77613\, United States
ATTACH;FMTTYPE=image/jpeg:https://fbcchinatexas.com/wp-content/uploads/2024/01/crosswords-event-6.jpg
ORGANIZER;CN="FBC China%2C TX":MAILTO:fbcchinasocial@gmail.com
END:VEVENT
BEGIN:VEVENT
DTSTART;TZID=America/Chicago:20240619T180000
DTEND;TZID=America/Chicago:20240619T190000
DTSTAMP:20260420T145238
CREATED:20240518T190209Z
LAST-MODIFIED:20240518T190209Z
UID:28550-1718820000-1718823600@fbcchinatexas.com
SUMMARY:Crosswords - Kids & Youth
DESCRIPTION:A mid-week pick me up for kids and youth! \nA high-energy ministry for kids and youth from kindergarten through 12th grade. Kids learn of God’s unconditional love and salvation through Jesus. It’s an hour of fun\, faith\, and food! Activities begin at 6 pm and conclude at 7 pm. See you there!!
URL:https://fbcchinatexas.com/event/crosswords-kids-youth-20/
LOCATION:FBC China\, TX\, 607 N Broadway\, China\, TX\, 77613\, United States
ATTACH;FMTTYPE=image/jpeg:https://fbcchinatexas.com/wp-content/uploads/2024/01/crosswords-event-6.jpg
ORGANIZER;CN="FBC China%2C TX":MAILTO:fbcchinasocial@gmail.com
END:VEVENT
BEGIN:VEVENT
DTSTART;TZID=America/Chicago:20240612T180000
DTEND;TZID=America/Chicago:20240612T190000
DTSTAMP:20260420T145238
CREATED:20240518T190151Z
LAST-MODIFIED:20240518T190151Z
UID:28548-1718215200-1718218800@fbcchinatexas.com
SUMMARY:Crosswords - Kids & Youth
DESCRIPTION:A mid-week pick me up for kids and youth! \nA high-energy ministry for kids and youth from kindergarten through 12th grade. Kids learn of God’s unconditional love and salvation through Jesus. It’s an hour of fun\, faith\, and food! Activities begin at 6 pm and conclude at 7 pm. See you there!!
URL:https://fbcchinatexas.com/event/crosswords-kids-youth-19/
LOCATION:FBC China\, TX\, 607 N Broadway\, China\, TX\, 77613\, United States
ATTACH;FMTTYPE=image/jpeg:https://fbcchinatexas.com/wp-content/uploads/2024/01/crosswords-event-6.jpg
ORGANIZER;CN="FBC China%2C TX":MAILTO:fbcchinasocial@gmail.com
END:VEVENT
BEGIN:VEVENT
DTSTART;TZID=America/Chicago:20240605T180000
DTEND;TZID=America/Chicago:20240605T190000
DTSTAMP:20260420T145238
CREATED:20240518T190129Z
LAST-MODIFIED:20240518T190129Z
UID:28546-1717610400-1717614000@fbcchinatexas.com
SUMMARY:Crosswords - Kids & Youth
DESCRIPTION:A mid-week pick me up for kids and youth! \nA high-energy ministry for kids and youth from kindergarten through 12th grade. Kids learn of God’s unconditional love and salvation through Jesus. It’s an hour of fun\, faith\, and food! Activities begin at 6 pm and conclude at 7 pm. See you there!!
URL:https://fbcchinatexas.com/event/crosswords-kids-youth-18/
LOCATION:FBC China\, TX\, 607 N Broadway\, China\, TX\, 77613\, United States
ATTACH;FMTTYPE=image/jpeg:https://fbcchinatexas.com/wp-content/uploads/2024/01/crosswords-event-6.jpg
ORGANIZER;CN="FBC China%2C TX":MAILTO:fbcchinasocial@gmail.com
END:VEVENT
BEGIN:VEVENT
DTSTART;TZID=America/Chicago:20240529T180000
DTEND;TZID=America/Chicago:20240529T190000
DTSTAMP:20260420T145238
CREATED:20240518T190059Z
LAST-MODIFIED:20240518T190059Z
UID:28544-1717005600-1717009200@fbcchinatexas.com
SUMMARY:Crosswords - Kids & Youth
DESCRIPTION:A mid-week pick me up for kids and youth! \nA high-energy ministry for kids and youth from kindergarten through 12th grade. Kids learn of God’s unconditional love and salvation through Jesus. It’s an hour of fun\, faith\, and food! Activities begin at 6 pm and conclude at 7 pm. See you there!!
URL:https://fbcchinatexas.com/event/crosswords-kids-youth-17/
LOCATION:FBC China\, TX\, 607 N Broadway\, China\, TX\, 77613\, United States
ATTACH;FMTTYPE=image/jpeg:https://fbcchinatexas.com/wp-content/uploads/2024/01/crosswords-event-6.jpg
ORGANIZER;CN="FBC China%2C TX":MAILTO:fbcchinasocial@gmail.com
END:VEVENT
BEGIN:VEVENT
DTSTART;TZID=America/Chicago:20240522T180000
DTEND;TZID=America/Chicago:20240522T190000
DTSTAMP:20260420T145238
CREATED:20240503T023540Z
LAST-MODIFIED:20240503T023540Z
UID:28315-1716400800-1716404400@fbcchinatexas.com
SUMMARY:Crosswords - Kids & Youth
DESCRIPTION:A mid-week pick me up for kids and youth! \nA high-energy ministry for kids and youth from kindergarten through 12th grade. Kids learn of God’s unconditional love and salvation through Jesus. It’s an hour of fun\, faith\, and food! Activities begin at 6 pm and conclude at 7 pm. See you there!!
URL:https://fbcchinatexas.com/event/crosswords-kids-youth-16/
LOCATION:FBC China\, TX\, 607 N Broadway\, China\, TX\, 77613\, United States
ATTACH;FMTTYPE=image/jpeg:https://fbcchinatexas.com/wp-content/uploads/2024/01/crosswords-event-6.jpg
ORGANIZER;CN="FBC China%2C TX":MAILTO:fbcchinasocial@gmail.com
END:VEVENT
BEGIN:VEVENT
DTSTART;TZID=America/Chicago:20240522T180000
DTEND;TZID=America/Chicago:20240522T184500
DTSTAMP:20260420T145238
CREATED:20240108T003824Z
LAST-MODIFIED:20240108T003824Z
UID:26780-1716400800-1716403500@fbcchinatexas.com
SUMMARY:Foundations of Faith Study - Week 20
DESCRIPTION:Week 20 – What Is Heaven?\nWhether you’re a relatively new believer in Jesus or a mature Christian looking for a better understanding of the basics of faith\, we look into these twenty basics as we study from the book “Christian Beliefs” by Wayne A. Grudem. Join us every Wednesday for a 20 week study\, all are welcome to attend!\nBook is not required to participate or attend. Feel free to purchase book and read along with us each week!
URL:https://fbcchinatexas.com/event/foundations-of-faith-study-week-twenty/
LOCATION:FBC China\, TX\, 607 N Broadway\, China\, TX\, 77613\, United States
ATTACH;FMTTYPE=image/jpeg:https://fbcchinatexas.com/wp-content/uploads/2024/01/Foundation-of-Faith-Event-5.jpg
ORGANIZER;CN="FBC China%2C TX":MAILTO:fbcchinasocial@gmail.com
END:VEVENT
BEGIN:VEVENT
DTSTART;TZID=America/Chicago:20240515T180000
DTEND;TZID=America/Chicago:20240515T190000
DTSTAMP:20260420T145238
CREATED:20240503T023516Z
LAST-MODIFIED:20240503T023516Z
UID:28313-1715796000-1715799600@fbcchinatexas.com
SUMMARY:Crosswords - Kids & Youth
DESCRIPTION:A mid-week pick me up for kids and youth! \nA high-energy ministry for kids and youth from kindergarten through 12th grade. Kids learn of God’s unconditional love and salvation through Jesus. It’s an hour of fun\, faith\, and food! Activities begin at 6 pm and conclude at 7 pm. See you there!!
URL:https://fbcchinatexas.com/event/crosswords-kids-youth-15/
LOCATION:FBC China\, TX\, 607 N Broadway\, China\, TX\, 77613\, United States
ATTACH;FMTTYPE=image/jpeg:https://fbcchinatexas.com/wp-content/uploads/2024/01/crosswords-event-6.jpg
ORGANIZER;CN="FBC China%2C TX":MAILTO:fbcchinasocial@gmail.com
END:VEVENT
BEGIN:VEVENT
DTSTART;TZID=America/Chicago:20240515T180000
DTEND;TZID=America/Chicago:20240515T184500
DTSTAMP:20260420T145238
CREATED:20240108T003738Z
LAST-MODIFIED:20240108T003738Z
UID:26778-1715796000-1715798700@fbcchinatexas.com
SUMMARY:Foundations of Faith Study - Week 19
DESCRIPTION:Week 19 – What Is the Final Judgement?\nWhether you’re a relatively new believer in Jesus or a mature Christian looking for a better understanding of the basics of faith\, we look into these twenty basics as we study from the book “Christian Beliefs” by Wayne A. Grudem. Join us every Wednesday for a 20 week study\, all are welcome to attend!\nBook is not required to participate or attend. Feel free to purchase book and read along with us each week!
URL:https://fbcchinatexas.com/event/foundations-of-faith-study-week-nineteen/
LOCATION:FBC China\, TX\, 607 N Broadway\, China\, TX\, 77613\, United States
ATTACH;FMTTYPE=image/jpeg:https://fbcchinatexas.com/wp-content/uploads/2024/01/Foundation-of-Faith-Event-5.jpg
ORGANIZER;CN="FBC China%2C TX":MAILTO:fbcchinasocial@gmail.com
END:VEVENT
BEGIN:VEVENT
DTSTART;TZID=America/Chicago:20240508T180000
DTEND;TZID=America/Chicago:20240508T190000
DTSTAMP:20260420T145238
CREATED:20240503T023456Z
LAST-MODIFIED:20240503T023456Z
UID:28311-1715191200-1715194800@fbcchinatexas.com
SUMMARY:Crosswords - Kids & Youth
DESCRIPTION:A mid-week pick me up for kids and youth! \nA high-energy ministry for kids and youth from kindergarten through 12th grade. Kids learn of God’s unconditional love and salvation through Jesus. It’s an hour of fun\, faith\, and food! Activities begin at 6 pm and conclude at 7 pm. See you there!!
URL:https://fbcchinatexas.com/event/crosswords-kids-youth-14/
LOCATION:FBC China\, TX\, 607 N Broadway\, China\, TX\, 77613\, United States
ATTACH;FMTTYPE=image/jpeg:https://fbcchinatexas.com/wp-content/uploads/2024/01/crosswords-event-6.jpg
ORGANIZER;CN="FBC China%2C TX":MAILTO:fbcchinasocial@gmail.com
END:VEVENT
BEGIN:VEVENT
DTSTART;TZID=America/Chicago:20240508T180000
DTEND;TZID=America/Chicago:20240508T184500
DTSTAMP:20260420T145238
CREATED:20240108T003654Z
LAST-MODIFIED:20240108T003654Z
UID:26776-1715191200-1715193900@fbcchinatexas.com
SUMMARY:Foundations of Faith Study - Week 18
DESCRIPTION:Week 18 – What Will Happen When Christ Returns?\nWhether you’re a relatively new believer in Jesus or a mature Christian looking for a better understanding of the basics of faith\, we look into these twenty basics as we study from the book “Christian Beliefs” by Wayne A. Grudem. Join us every Wednesday for a 20 week study\, all are welcome to attend!\nBook is not required to participate or attend. Feel free to purchase book and read along with us each week!
URL:https://fbcchinatexas.com/event/foundations-of-faith-study-week-eighteen/
LOCATION:FBC China\, TX\, 607 N Broadway\, China\, TX\, 77613\, United States
ATTACH;FMTTYPE=image/jpeg:https://fbcchinatexas.com/wp-content/uploads/2024/01/Foundation-of-Faith-Event-5.jpg
ORGANIZER;CN="FBC China%2C TX":MAILTO:fbcchinasocial@gmail.com
END:VEVENT
BEGIN:VEVENT
DTSTART;TZID=America/Chicago:20240501T180000
DTEND;TZID=America/Chicago:20240501T190000
DTSTAMP:20260420T145238
CREATED:20240503T023435Z
LAST-MODIFIED:20240503T023435Z
UID:28309-1714586400-1714590000@fbcchinatexas.com
SUMMARY:Crosswords - Kids & Youth
DESCRIPTION:A mid-week pick me up for kids and youth! \nA high-energy ministry for kids and youth from kindergarten through 12th grade. Kids learn of God’s unconditional love and salvation through Jesus. It’s an hour of fun\, faith\, and food! Activities begin at 6 pm and conclude at 7 pm. See you there!!
URL:https://fbcchinatexas.com/event/crosswords-kids-youth-13/
LOCATION:FBC China\, TX\, 607 N Broadway\, China\, TX\, 77613\, United States
ATTACH;FMTTYPE=image/jpeg:https://fbcchinatexas.com/wp-content/uploads/2024/01/crosswords-event-6.jpg
ORGANIZER;CN="FBC China%2C TX":MAILTO:fbcchinasocial@gmail.com
END:VEVENT
BEGIN:VEVENT
DTSTART;TZID=America/Chicago:20240501T180000
DTEND;TZID=America/Chicago:20240501T184500
DTSTAMP:20260420T145238
CREATED:20240108T003554Z
LAST-MODIFIED:20240108T003554Z
UID:26774-1714586400-1714589100@fbcchinatexas.com
SUMMARY:Foundations of Faith Study - Week 17
DESCRIPTION:Week 17 – What Is the Church?\nWhether you’re a relatively new believer in Jesus or a mature Christian looking for a better understanding of the basics of faith\, we look into these twenty basics as we study from the book “Christian Beliefs” by Wayne A. Grudem. Join us every Wednesday for a 20 week study\, all are welcome to attend!\nBook is not required to participate or attend. Feel free to purchase book and read along with us each week!
URL:https://fbcchinatexas.com/event/foundations-of-faith-study-week-seventeen/
LOCATION:FBC China\, TX\, 607 N Broadway\, China\, TX\, 77613\, United States
ATTACH;FMTTYPE=image/jpeg:https://fbcchinatexas.com/wp-content/uploads/2024/01/Foundation-of-Faith-Event-5.jpg
ORGANIZER;CN="FBC China%2C TX":MAILTO:fbcchinasocial@gmail.com
END:VEVENT
BEGIN:VEVENT
DTSTART;TZID=America/Chicago:20240424T180000
DTEND;TZID=America/Chicago:20240424T190000
DTSTAMP:20260420T145238
CREATED:20240407T212209Z
LAST-MODIFIED:20240407T212209Z
UID:28164-1713981600-1713985200@fbcchinatexas.com
SUMMARY:Crosswords - Kids & Youth
DESCRIPTION:A mid-week pick me up for kids and youth! \nA high-energy ministry for kids and youth from kindergarten through 12th grade. Kids learn of God’s unconditional love and salvation through Jesus. It’s an hour of fun\, faith\, and food! Activities begin at 6 pm and conclude at 7 pm. See you there!!
URL:https://fbcchinatexas.com/event/crosswords-kids-youth-12/
LOCATION:FBC China\, TX\, 607 N Broadway\, China\, TX\, 77613\, United States
ATTACH;FMTTYPE=image/jpeg:https://fbcchinatexas.com/wp-content/uploads/2024/01/crosswords-event-6.jpg
ORGANIZER;CN="FBC China%2C TX":MAILTO:fbcchinasocial@gmail.com
END:VEVENT
BEGIN:VEVENT
DTSTART;TZID=America/Chicago:20240424T180000
DTEND;TZID=America/Chicago:20240424T184500
DTSTAMP:20260420T145238
CREATED:20240108T003513Z
LAST-MODIFIED:20240108T003513Z
UID:26772-1713981600-1713984300@fbcchinatexas.com
SUMMARY:Foundations of Faith Study - Week 16
DESCRIPTION:Week 16 – What Is Death?\nWhether you’re a relatively new believer in Jesus or a mature Christian looking for a better understanding of the basics of faith\, we look into these twenty basics as we study from the book “Christian Beliefs” by Wayne A. Grudem. Join us every Wednesday for a 20 week study\, all are welcome to attend!\nBook is not required to participate or attend. Feel free to purchase book and read along with us each week!
URL:https://fbcchinatexas.com/event/foundations-of-faith-study-week-sixteen/
LOCATION:FBC China\, TX\, 607 N Broadway\, China\, TX\, 77613\, United States
ATTACH;FMTTYPE=image/jpeg:https://fbcchinatexas.com/wp-content/uploads/2024/01/Foundation-of-Faith-Event-5.jpg
ORGANIZER;CN="FBC China%2C TX":MAILTO:fbcchinasocial@gmail.com
END:VEVENT
BEGIN:VEVENT
DTSTART;TZID=America/Chicago:20240417T180000
DTEND;TZID=America/Chicago:20240417T190000
DTSTAMP:20260420T145238
CREATED:20240407T212141Z
LAST-MODIFIED:20240407T212141Z
UID:28162-1713376800-1713380400@fbcchinatexas.com
SUMMARY:Crosswords - Kids & Youth
DESCRIPTION:A mid-week pick me up for kids and youth! \nA high-energy ministry for kids and youth from kindergarten through 12th grade. Kids learn of God’s unconditional love and salvation through Jesus. It’s an hour of fun\, faith\, and food! Activities begin at 6 pm and conclude at 7 pm. See you there!!
URL:https://fbcchinatexas.com/event/crosswords-kids-youth-11/
LOCATION:FBC China\, TX\, 607 N Broadway\, China\, TX\, 77613\, United States
ATTACH;FMTTYPE=image/jpeg:https://fbcchinatexas.com/wp-content/uploads/2024/01/crosswords-event-6.jpg
ORGANIZER;CN="FBC China%2C TX":MAILTO:fbcchinasocial@gmail.com
END:VEVENT
BEGIN:VEVENT
DTSTART;TZID=America/Chicago:20240417T180000
DTEND;TZID=America/Chicago:20240417T184500
DTSTAMP:20260420T145238
CREATED:20240108T003430Z
LAST-MODIFIED:20240108T003430Z
UID:26770-1713376800-1713379500@fbcchinatexas.com
SUMMARY:Foundations of Faith Study - Week 15
DESCRIPTION:Week 15 – What AreSantification and Perserverance?\nWhether you’re a relatively new believer in Jesus or a mature Christian looking for a better understanding of the basics of faith\, we look into these twenty basics as we study from the book “Christian Beliefs” by Wayne A. Grudem. Join us every Wednesday for a 20 week study\, all are welcome to attend!\nBook is not required to participate or attend. Feel free to purchase book and read along with us each week!
URL:https://fbcchinatexas.com/event/foundations-of-faith-study-week-fifteen/
LOCATION:FBC China\, TX\, 607 N Broadway\, China\, TX\, 77613\, United States
ATTACH;FMTTYPE=image/jpeg:https://fbcchinatexas.com/wp-content/uploads/2024/01/Foundation-of-Faith-Event-5.jpg
ORGANIZER;CN="FBC China%2C TX":MAILTO:fbcchinasocial@gmail.com
END:VEVENT
BEGIN:VEVENT
DTSTART;TZID=America/Chicago:20240410T180000
DTEND;TZID=America/Chicago:20240410T190000
DTSTAMP:20260420T145238
CREATED:20240407T212122Z
LAST-MODIFIED:20240407T212122Z
UID:28160-1712772000-1712775600@fbcchinatexas.com
SUMMARY:Crosswords - Kids & Youth
DESCRIPTION:A mid-week pick me up for kids and youth! \nA high-energy ministry for kids and youth from kindergarten through 12th grade. Kids learn of God’s unconditional love and salvation through Jesus. It’s an hour of fun\, faith\, and food! Activities begin at 6 pm and conclude at 7 pm. See you there!!
URL:https://fbcchinatexas.com/event/crosswords-kids-youth-10/
LOCATION:FBC China\, TX\, 607 N Broadway\, China\, TX\, 77613\, United States
ATTACH;FMTTYPE=image/jpeg:https://fbcchinatexas.com/wp-content/uploads/2024/01/crosswords-event-6.jpg
ORGANIZER;CN="FBC China%2C TX":MAILTO:fbcchinasocial@gmail.com
END:VEVENT
BEGIN:VEVENT
DTSTART;TZID=America/Chicago:20240410T180000
DTEND;TZID=America/Chicago:20240410T184500
DTSTAMP:20260420T145238
CREATED:20240108T003323Z
LAST-MODIFIED:20240108T003323Z
UID:26768-1712772000-1712774700@fbcchinatexas.com
SUMMARY:Foundations of Faith Study - Week 14
DESCRIPTION:Week 14 – What Are Justification and Adoption?\nWhether you’re a relatively new believer in Jesus or a mature Christian looking for a better understanding of the basics of faith\, we look into these twenty basics as we study from the book “Christian Beliefs” by Wayne A. Grudem. Join us every Wednesday for a 20 week study\, all are welcome to attend!\nBook is not required to participate or attend. Feel free to purchase book and read along with us each week!
URL:https://fbcchinatexas.com/event/foundations-of-faith-study-week-fourteen/
LOCATION:FBC China\, TX\, 607 N Broadway\, China\, TX\, 77613\, United States
ATTACH;FMTTYPE=image/jpeg:https://fbcchinatexas.com/wp-content/uploads/2024/01/Foundation-of-Faith-Event-5.jpg
ORGANIZER;CN="FBC China%2C TX":MAILTO:fbcchinasocial@gmail.com
END:VEVENT
BEGIN:VEVENT
DTSTART;TZID=America/Chicago:20240403T180000
DTEND;TZID=America/Chicago:20240403T190000
DTSTAMP:20260420T145238
CREATED:20240407T212058Z
LAST-MODIFIED:20240407T212058Z
UID:28158-1712167200-1712170800@fbcchinatexas.com
SUMMARY:Crosswords - Kids & Youth
DESCRIPTION:A mid-week pick me up for kids and youth! \nA high-energy ministry for kids and youth from kindergarten through 12th grade. Kids learn of God’s unconditional love and salvation through Jesus. It’s an hour of fun\, faith\, and food! Activities begin at 6 pm and conclude at 7 pm. See you there!!
URL:https://fbcchinatexas.com/event/crosswords-kids-youth-9/
LOCATION:FBC China\, TX\, 607 N Broadway\, China\, TX\, 77613\, United States
ATTACH;FMTTYPE=image/jpeg:https://fbcchinatexas.com/wp-content/uploads/2024/01/crosswords-event-6.jpg
ORGANIZER;CN="FBC China%2C TX":MAILTO:fbcchinasocial@gmail.com
END:VEVENT
BEGIN:VEVENT
DTSTART;TZID=America/Chicago:20240403T180000
DTEND;TZID=America/Chicago:20240403T184500
DTSTAMP:20260420T145238
CREATED:20240108T003230Z
LAST-MODIFIED:20240108T003230Z
UID:26766-1712167200-1712169900@fbcchinatexas.com
SUMMARY:Foundations of Faith Study - Week 13
DESCRIPTION:Week 13 – What Does It Mean to Become a Christian?\nWhether you’re a relatively new believer in Jesus or a mature Christian looking for a better understanding of the basics of faith\, we look into these twenty basics as we study from the book “Christian Beliefs” by Wayne A. Grudem. Join us every Wednesday for a 20 week study\, all are welcome to attend!\nBook is not required to participate or attend. Feel free to purchase book and read along with us each week!
URL:https://fbcchinatexas.com/event/foundations-of-faith-study-week-thirteen/
LOCATION:FBC China\, TX\, 607 N Broadway\, China\, TX\, 77613\, United States
ATTACH;FMTTYPE=image/jpeg:https://fbcchinatexas.com/wp-content/uploads/2024/01/Foundation-of-Faith-Event-5.jpg
ORGANIZER;CN="FBC China%2C TX":MAILTO:fbcchinasocial@gmail.com
END:VEVENT
BEGIN:VEVENT
DTSTART;TZID=America/Chicago:20240402T183000
DTEND;TZID=America/Chicago:20240402T193000
DTSTAMP:20260420T145238
CREATED:20240204T231239Z
LAST-MODIFIED:20240204T231239Z
UID:27131-1712082600-1712086200@fbcchinatexas.com
SUMMARY:Ladies Bible Study - Week 8
DESCRIPTION:Week 8 – Session 7: Wrap-Up /\nDuring this 8 week study\, we will recognize God’s Word as an anchor in the ever-shifting cultural climate. We will discover your God-given identity in a world of deception. We will learn how to point others to Jesus in grace and truth. This study will come from the book “Jude\, Contending For the Faith In Today’s Culture” by Jackie Hill Perry. \nBook is not required to participate or attend. Feel free to purchase book and read along with us each week!
URL:https://fbcchinatexas.com/event/ladies-bible-study-jude-week-8/
LOCATION:FBC China\, TX\, 607 N Broadway\, China\, TX\, 77613\, United States
ATTACH;FMTTYPE=image/jpeg:https://fbcchinatexas.com/wp-content/uploads/2024/02/Ladies-Bible-Study-Jude.jpg
ORGANIZER;CN="FBC China%2C TX":MAILTO:fbcchinasocial@gmail.com
END:VEVENT
END:VCALENDAR