BEGIN:VCALENDAR
VERSION:2.0
PRODID:-//FBC China TX - ECPv6.11.2.1//NONSGML v1.0//EN
CALSCALE:GREGORIAN
METHOD:PUBLISH
X-WR-CALNAME:FBC China TX
X-ORIGINAL-URL:https://fbcchinatexas.com
X-WR-CALDESC:Events for FBC China TX
REFRESH-INTERVAL;VALUE=DURATION:PT1H
X-Robots-Tag:noindex
X-PUBLISHED-TTL:PT1H
BEGIN:VTIMEZONE
TZID:America/Chicago
BEGIN:DAYLIGHT
TZOFFSETFROM:-0600
TZOFFSETTO:-0500
TZNAME:CDT
DTSTART:20240310T080000
END:DAYLIGHT
BEGIN:STANDARD
TZOFFSETFROM:-0500
TZOFFSETTO:-0600
TZNAME:CST
DTSTART:20241103T070000
END:STANDARD
BEGIN:DAYLIGHT
TZOFFSETFROM:-0600
TZOFFSETTO:-0500
TZNAME:CDT
DTSTART:20250309T080000
END:DAYLIGHT
BEGIN:STANDARD
TZOFFSETFROM:-0500
TZOFFSETTO:-0600
TZNAME:CST
DTSTART:20251102T070000
END:STANDARD
END:VTIMEZONE
BEGIN:VEVENT
DTSTART;TZID=America/Chicago:20250630T180000
DTEND;TZID=America/Chicago:20250703T200000
DTSTAMP:20260419T233845
CREATED:20250615T222105Z
LAST-MODIFIED:20250615T222105Z
UID:29508-1751306400-1751572800@fbcchinatexas.com
SUMMARY:VBS 2025 | Magnified!
DESCRIPTION:Vacation Bible School 2025 at First Baptist Church China\, TX\n \nWe are now accepting registrations for our 2025 VBS student event this summer! Join us for Magnified! Discover the BIGNESS of God in the smallest of things! \nRegister online\, invite your friends\, and mark your calendars! \n 
URL:https://fbcchinatexas.com/event/vbs-2025-magnified/
LOCATION:FBC China\, TX\, 607 N Broadway\, China\, TX\, 77613\, United States
ATTACH;FMTTYPE=image/png:https://fbcchinatexas.com/wp-content/uploads/2025/02/VBS-2025-This-Summer-2.png
ORGANIZER;CN="FBC China%2C TX":MAILTO:fbcchinasocial@gmail.com
END:VEVENT
BEGIN:VEVENT
DTSTART;TZID=America/Chicago:20250625T180000
DTEND;TZID=America/Chicago:20250625T190000
DTSTAMP:20260419T233845
CREATED:20250525T152853Z
LAST-MODIFIED:20250525T152853Z
UID:29559-1750874400-1750878000@fbcchinatexas.com
SUMMARY:Crosswords - Kids & Youth
DESCRIPTION:A mid-week pick me up for kids and youth! \nA high-energy ministry for kids and youth from kindergarten through 12th grade. Kids learn of God’s unconditional love and salvation through Jesus. It’s an hour of fun\, faith\, and food! Activities begin at 6 pm and conclude at 7 pm. See you there!!
URL:https://fbcchinatexas.com/event/crosswords-kids-youth-70/
LOCATION:FBC China\, TX\, 607 N Broadway\, China\, TX\, 77613\, United States
ATTACH;FMTTYPE=image/jpeg:https://fbcchinatexas.com/wp-content/uploads/2024/01/crosswords-event-6.jpg
ORGANIZER;CN="FBC China%2C TX":MAILTO:fbcchinasocial@gmail.com
END:VEVENT
BEGIN:VEVENT
DTSTART;TZID=America/Chicago:20250618T180000
DTEND;TZID=America/Chicago:20250618T190000
DTSTAMP:20260419T233845
CREATED:20250525T152831Z
LAST-MODIFIED:20250525T152831Z
UID:29557-1750269600-1750273200@fbcchinatexas.com
SUMMARY:Crosswords - Kids & Youth
DESCRIPTION:A mid-week pick me up for kids and youth! \nA high-energy ministry for kids and youth from kindergarten through 12th grade. Kids learn of God’s unconditional love and salvation through Jesus. It’s an hour of fun\, faith\, and food! Activities begin at 6 pm and conclude at 7 pm. See you there!!
URL:https://fbcchinatexas.com/event/crosswords-kids-youth-69/
LOCATION:FBC China\, TX\, 607 N Broadway\, China\, TX\, 77613\, United States
ATTACH;FMTTYPE=image/jpeg:https://fbcchinatexas.com/wp-content/uploads/2024/01/crosswords-event-6.jpg
ORGANIZER;CN="FBC China%2C TX":MAILTO:fbcchinasocial@gmail.com
END:VEVENT
BEGIN:VEVENT
DTSTART;TZID=America/Chicago:20250611T180000
DTEND;TZID=America/Chicago:20250611T190000
DTSTAMP:20260419T233845
CREATED:20250525T152809Z
LAST-MODIFIED:20250525T152809Z
UID:29555-1749664800-1749668400@fbcchinatexas.com
SUMMARY:Crosswords - Kids & Youth
DESCRIPTION:A mid-week pick me up for kids and youth! \nA high-energy ministry for kids and youth from kindergarten through 12th grade. Kids learn of God’s unconditional love and salvation through Jesus. It’s an hour of fun\, faith\, and food! Activities begin at 6 pm and conclude at 7 pm. See you there!!
URL:https://fbcchinatexas.com/event/crosswords-kids-youth-68/
LOCATION:FBC China\, TX\, 607 N Broadway\, China\, TX\, 77613\, United States
ATTACH;FMTTYPE=image/jpeg:https://fbcchinatexas.com/wp-content/uploads/2024/01/crosswords-event-6.jpg
ORGANIZER;CN="FBC China%2C TX":MAILTO:fbcchinasocial@gmail.com
END:VEVENT
BEGIN:VEVENT
DTSTART;TZID=America/Chicago:20250604T180000
DTEND;TZID=America/Chicago:20250604T190000
DTSTAMP:20260419T233845
CREATED:20250525T152735Z
LAST-MODIFIED:20250525T152735Z
UID:29553-1749060000-1749063600@fbcchinatexas.com
SUMMARY:Crosswords - Kids & Youth
DESCRIPTION:A mid-week pick me up for kids and youth! \nA high-energy ministry for kids and youth from kindergarten through 12th grade. Kids learn of God’s unconditional love and salvation through Jesus. It’s an hour of fun\, faith\, and food! Activities begin at 6 pm and conclude at 7 pm. See you there!!
URL:https://fbcchinatexas.com/event/crosswords-kids-youth-67/
LOCATION:FBC China\, TX\, 607 N Broadway\, China\, TX\, 77613\, United States
ATTACH;FMTTYPE=image/jpeg:https://fbcchinatexas.com/wp-content/uploads/2024/01/crosswords-event-6.jpg
ORGANIZER;CN="FBC China%2C TX":MAILTO:fbcchinasocial@gmail.com
END:VEVENT
BEGIN:VEVENT
DTSTART;TZID=America/Chicago:20250528T180000
DTEND;TZID=America/Chicago:20250528T190000
DTSTAMP:20260419T233845
CREATED:20250420T192909Z
LAST-MODIFIED:20250420T192909Z
UID:29503-1748455200-1748458800@fbcchinatexas.com
SUMMARY:Crosswords - Kids & Youth
DESCRIPTION:A mid-week pick me up for kids and youth! \nA high-energy ministry for kids and youth from kindergarten through 12th grade. Kids learn of God’s unconditional love and salvation through Jesus. It’s an hour of fun\, faith\, and food! Activities begin at 6 pm and conclude at 7 pm. See you there!!
URL:https://fbcchinatexas.com/event/crosswords-kids-youth-66/
LOCATION:FBC China\, TX\, 607 N Broadway\, China\, TX\, 77613\, United States
ATTACH;FMTTYPE=image/jpeg:https://fbcchinatexas.com/wp-content/uploads/2024/01/crosswords-event-6.jpg
ORGANIZER;CN="FBC China%2C TX":MAILTO:fbcchinasocial@gmail.com
END:VEVENT
BEGIN:VEVENT
DTSTART;TZID=America/Chicago:20250521T180000
DTEND;TZID=America/Chicago:20250521T190000
DTSTAMP:20260419T233845
CREATED:20250420T192847Z
LAST-MODIFIED:20250420T192847Z
UID:29501-1747850400-1747854000@fbcchinatexas.com
SUMMARY:Crosswords - Kids & Youth
DESCRIPTION:A mid-week pick me up for kids and youth! \nA high-energy ministry for kids and youth from kindergarten through 12th grade. Kids learn of God’s unconditional love and salvation through Jesus. It’s an hour of fun\, faith\, and food! Activities begin at 6 pm and conclude at 7 pm. See you there!!
URL:https://fbcchinatexas.com/event/crosswords-kids-youth-65/
LOCATION:FBC China\, TX\, 607 N Broadway\, China\, TX\, 77613\, United States
ATTACH;FMTTYPE=image/jpeg:https://fbcchinatexas.com/wp-content/uploads/2024/01/crosswords-event-6.jpg
ORGANIZER;CN="FBC China%2C TX":MAILTO:fbcchinasocial@gmail.com
END:VEVENT
BEGIN:VEVENT
DTSTART;TZID=America/Chicago:20250514T180000
DTEND;TZID=America/Chicago:20250514T190000
DTSTAMP:20260419T233845
CREATED:20250420T192829Z
LAST-MODIFIED:20250420T192829Z
UID:29499-1747245600-1747249200@fbcchinatexas.com
SUMMARY:Crosswords - Kids & Youth
DESCRIPTION:A mid-week pick me up for kids and youth! \nA high-energy ministry for kids and youth from kindergarten through 12th grade. Kids learn of God’s unconditional love and salvation through Jesus. It’s an hour of fun\, faith\, and food! Activities begin at 6 pm and conclude at 7 pm. See you there!!
URL:https://fbcchinatexas.com/event/crosswords-kids-youth-64/
LOCATION:FBC China\, TX\, 607 N Broadway\, China\, TX\, 77613\, United States
ATTACH;FMTTYPE=image/jpeg:https://fbcchinatexas.com/wp-content/uploads/2024/01/crosswords-event-6.jpg
ORGANIZER;CN="FBC China%2C TX":MAILTO:fbcchinasocial@gmail.com
END:VEVENT
BEGIN:VEVENT
DTSTART;TZID=America/Chicago:20250507T180000
DTEND;TZID=America/Chicago:20250507T190000
DTSTAMP:20260419T233845
CREATED:20250420T192808Z
LAST-MODIFIED:20250420T192808Z
UID:29497-1746640800-1746644400@fbcchinatexas.com
SUMMARY:Crosswords - Kids & Youth
DESCRIPTION:A mid-week pick me up for kids and youth! \nA high-energy ministry for kids and youth from kindergarten through 12th grade. Kids learn of God’s unconditional love and salvation through Jesus. It’s an hour of fun\, faith\, and food! Activities begin at 6 pm and conclude at 7 pm. See you there!!
URL:https://fbcchinatexas.com/event/crosswords-kids-youth-63/
LOCATION:FBC China\, TX\, 607 N Broadway\, China\, TX\, 77613\, United States
ATTACH;FMTTYPE=image/jpeg:https://fbcchinatexas.com/wp-content/uploads/2024/01/crosswords-event-6.jpg
ORGANIZER;CN="FBC China%2C TX":MAILTO:fbcchinasocial@gmail.com
END:VEVENT
BEGIN:VEVENT
DTSTART;TZID=America/Chicago:20250430T180000
DTEND;TZID=America/Chicago:20250430T190000
DTSTAMP:20260419T233845
CREATED:20250316T230547Z
LAST-MODIFIED:20250316T230547Z
UID:29483-1746036000-1746039600@fbcchinatexas.com
SUMMARY:Crosswords - Kids & Youth
DESCRIPTION:A mid-week pick me up for kids and youth! \nA high-energy ministry for kids and youth from kindergarten through 12th grade. Kids learn of God’s unconditional love and salvation through Jesus. It’s an hour of fun\, faith\, and food! Activities begin at 6 pm and conclude at 7 pm. See you there!!
URL:https://fbcchinatexas.com/event/crosswords-kids-youth-62/
LOCATION:FBC China\, TX\, 607 N Broadway\, China\, TX\, 77613\, United States
ATTACH;FMTTYPE=image/jpeg:https://fbcchinatexas.com/wp-content/uploads/2024/01/crosswords-event-6.jpg
ORGANIZER;CN="FBC China%2C TX":MAILTO:fbcchinasocial@gmail.com
END:VEVENT
BEGIN:VEVENT
DTSTART;TZID=America/Chicago:20250423T180000
DTEND;TZID=America/Chicago:20250423T190000
DTSTAMP:20260419T233845
CREATED:20250316T230518Z
LAST-MODIFIED:20250316T230518Z
UID:29481-1745431200-1745434800@fbcchinatexas.com
SUMMARY:Crosswords - Kids & Youth
DESCRIPTION:A mid-week pick me up for kids and youth! \nA high-energy ministry for kids and youth from kindergarten through 12th grade. Kids learn of God’s unconditional love and salvation through Jesus. It’s an hour of fun\, faith\, and food! Activities begin at 6 pm and conclude at 7 pm. See you there!!
URL:https://fbcchinatexas.com/event/crosswords-kids-youth-61/
LOCATION:FBC China\, TX\, 607 N Broadway\, China\, TX\, 77613\, United States
ATTACH;FMTTYPE=image/jpeg:https://fbcchinatexas.com/wp-content/uploads/2024/01/crosswords-event-6.jpg
ORGANIZER;CN="FBC China%2C TX":MAILTO:fbcchinasocial@gmail.com
END:VEVENT
BEGIN:VEVENT
DTSTART;TZID=America/Chicago:20250416T180000
DTEND;TZID=America/Chicago:20250416T190000
DTSTAMP:20260419T233845
CREATED:20250316T230501Z
LAST-MODIFIED:20250316T230501Z
UID:29479-1744826400-1744830000@fbcchinatexas.com
SUMMARY:Crosswords - Kids & Youth
DESCRIPTION:A mid-week pick me up for kids and youth! \nA high-energy ministry for kids and youth from kindergarten through 12th grade. Kids learn of God’s unconditional love and salvation through Jesus. It’s an hour of fun\, faith\, and food! Activities begin at 6 pm and conclude at 7 pm. See you there!!
URL:https://fbcchinatexas.com/event/crosswords-kids-youth-60/
LOCATION:FBC China\, TX\, 607 N Broadway\, China\, TX\, 77613\, United States
ATTACH;FMTTYPE=image/jpeg:https://fbcchinatexas.com/wp-content/uploads/2024/01/crosswords-event-6.jpg
ORGANIZER;CN="FBC China%2C TX":MAILTO:fbcchinasocial@gmail.com
END:VEVENT
BEGIN:VEVENT
DTSTART;TZID=America/Chicago:20250409T180000
DTEND;TZID=America/Chicago:20250409T190000
DTSTAMP:20260419T233845
CREATED:20250316T230436Z
LAST-MODIFIED:20250316T230436Z
UID:29477-1744221600-1744225200@fbcchinatexas.com
SUMMARY:Crosswords - Kids & Youth
DESCRIPTION:A mid-week pick me up for kids and youth! \nA high-energy ministry for kids and youth from kindergarten through 12th grade. Kids learn of God’s unconditional love and salvation through Jesus. It’s an hour of fun\, faith\, and food! Activities begin at 6 pm and conclude at 7 pm. See you there!!
URL:https://fbcchinatexas.com/event/crosswords-kids-youth-59/
LOCATION:FBC China\, TX\, 607 N Broadway\, China\, TX\, 77613\, United States
ATTACH;FMTTYPE=image/jpeg:https://fbcchinatexas.com/wp-content/uploads/2024/01/crosswords-event-6.jpg
ORGANIZER;CN="FBC China%2C TX":MAILTO:fbcchinasocial@gmail.com
END:VEVENT
BEGIN:VEVENT
DTSTART;TZID=America/Chicago:20250402T180000
DTEND;TZID=America/Chicago:20250402T190000
DTSTAMP:20260419T233845
CREATED:20250316T230356Z
LAST-MODIFIED:20250316T230356Z
UID:29475-1743616800-1743620400@fbcchinatexas.com
SUMMARY:Crosswords - Kids & Youth
DESCRIPTION:A mid-week pick me up for kids and youth! \nA high-energy ministry for kids and youth from kindergarten through 12th grade. Kids learn of God’s unconditional love and salvation through Jesus. It’s an hour of fun\, faith\, and food! Activities begin at 6 pm and conclude at 7 pm. See you there!!
URL:https://fbcchinatexas.com/event/crosswords-kids-youth-58/
LOCATION:FBC China\, TX\, 607 N Broadway\, China\, TX\, 77613\, United States
ATTACH;FMTTYPE=image/jpeg:https://fbcchinatexas.com/wp-content/uploads/2024/01/crosswords-event-6.jpg
ORGANIZER;CN="FBC China%2C TX":MAILTO:fbcchinasocial@gmail.com
END:VEVENT
BEGIN:VEVENT
DTSTART;TZID=America/Chicago:20250326T180000
DTEND;TZID=America/Chicago:20250326T190000
DTSTAMP:20260419T233845
CREATED:20250316T230329Z
LAST-MODIFIED:20250316T230329Z
UID:29464-1743012000-1743015600@fbcchinatexas.com
SUMMARY:Crosswords - Kids & Youth
DESCRIPTION:A mid-week pick me up for kids and youth! \nA high-energy ministry for kids and youth from kindergarten through 12th grade. Kids learn of God’s unconditional love and salvation through Jesus. It’s an hour of fun\, faith\, and food! Activities begin at 6 pm and conclude at 7 pm. See you there!!
URL:https://fbcchinatexas.com/event/crosswords-kids-youth-57/
LOCATION:FBC China\, TX\, 607 N Broadway\, China\, TX\, 77613\, United States
ATTACH;FMTTYPE=image/jpeg:https://fbcchinatexas.com/wp-content/uploads/2024/01/crosswords-event-6.jpg
ORGANIZER;CN="FBC China%2C TX":MAILTO:fbcchinasocial@gmail.com
END:VEVENT
BEGIN:VEVENT
DTSTART;TZID=America/Chicago:20250319T180000
DTEND;TZID=America/Chicago:20250319T190000
DTSTAMP:20260419T233845
CREATED:20250309T200946Z
LAST-MODIFIED:20250309T200946Z
UID:29462-1742407200-1742410800@fbcchinatexas.com
SUMMARY:Crosswords - Kids & Youth
DESCRIPTION:A mid-week pick me up for kids and youth! \nA high-energy ministry for kids and youth from kindergarten through 12th grade. Kids learn of God’s unconditional love and salvation through Jesus. It’s an hour of fun\, faith\, and food! Activities begin at 6 pm and conclude at 7 pm. See you there!!
URL:https://fbcchinatexas.com/event/crosswords-kids-youth-56/
LOCATION:FBC China\, TX\, 607 N Broadway\, China\, TX\, 77613\, United States
ATTACH;FMTTYPE=image/jpeg:https://fbcchinatexas.com/wp-content/uploads/2024/01/crosswords-event-6.jpg
ORGANIZER;CN="FBC China%2C TX":MAILTO:fbcchinasocial@gmail.com
END:VEVENT
BEGIN:VEVENT
DTSTART;TZID=America/Chicago:20250312T180000
DTEND;TZID=America/Chicago:20250312T190000
DTSTAMP:20260419T233845
CREATED:20250309T200928Z
LAST-MODIFIED:20250309T200928Z
UID:29460-1741802400-1741806000@fbcchinatexas.com
SUMMARY:Crosswords - Kids & Youth
DESCRIPTION:A mid-week pick me up for kids and youth! \nA high-energy ministry for kids and youth from kindergarten through 12th grade. Kids learn of God’s unconditional love and salvation through Jesus. It’s an hour of fun\, faith\, and food! Activities begin at 6 pm and conclude at 7 pm. See you there!!
URL:https://fbcchinatexas.com/event/crosswords-kids-youth-55/
LOCATION:FBC China\, TX\, 607 N Broadway\, China\, TX\, 77613\, United States
ATTACH;FMTTYPE=image/jpeg:https://fbcchinatexas.com/wp-content/uploads/2024/01/crosswords-event-6.jpg
ORGANIZER;CN="FBC China%2C TX":MAILTO:fbcchinasocial@gmail.com
END:VEVENT
BEGIN:VEVENT
DTSTART;TZID=America/Chicago:20250305T180000
DTEND;TZID=America/Chicago:20250305T190000
DTSTAMP:20260419T233845
CREATED:20250309T200905Z
LAST-MODIFIED:20250309T200905Z
UID:29458-1741197600-1741201200@fbcchinatexas.com
SUMMARY:Crosswords - Kids & Youth
DESCRIPTION:A mid-week pick me up for kids and youth! \nA high-energy ministry for kids and youth from kindergarten through 12th grade. Kids learn of God’s unconditional love and salvation through Jesus. It’s an hour of fun\, faith\, and food! Activities begin at 6 pm and conclude at 7 pm. See you there!!
URL:https://fbcchinatexas.com/event/crosswords-kids-youth-54/
LOCATION:FBC China\, TX\, 607 N Broadway\, China\, TX\, 77613\, United States
ATTACH;FMTTYPE=image/jpeg:https://fbcchinatexas.com/wp-content/uploads/2024/01/crosswords-event-6.jpg
ORGANIZER;CN="FBC China%2C TX":MAILTO:fbcchinasocial@gmail.com
END:VEVENT
BEGIN:VEVENT
DTSTART;TZID=America/Chicago:20250226T180000
DTEND;TZID=America/Chicago:20250226T190000
DTSTAMP:20260419T233845
CREATED:20250202T230352Z
LAST-MODIFIED:20250202T230352Z
UID:29435-1740592800-1740596400@fbcchinatexas.com
SUMMARY:Crosswords - Kids & Youth
DESCRIPTION:A mid-week pick me up for kids and youth! \nA high-energy ministry for kids and youth from kindergarten through 12th grade. Kids learn of God’s unconditional love and salvation through Jesus. It’s an hour of fun\, faith\, and food! Activities begin at 6 pm and conclude at 7 pm. See you there!!
URL:https://fbcchinatexas.com/event/crosswords-kids-youth-53/
LOCATION:FBC China\, TX\, 607 N Broadway\, China\, TX\, 77613\, United States
ATTACH;FMTTYPE=image/jpeg:https://fbcchinatexas.com/wp-content/uploads/2024/01/crosswords-event-6.jpg
ORGANIZER;CN="FBC China%2C TX":MAILTO:fbcchinasocial@gmail.com
END:VEVENT
BEGIN:VEVENT
DTSTART;TZID=America/Chicago:20250219T180000
DTEND;TZID=America/Chicago:20250219T190000
DTSTAMP:20260419T233845
CREATED:20250202T230336Z
LAST-MODIFIED:20250202T230336Z
UID:29433-1739988000-1739991600@fbcchinatexas.com
SUMMARY:Crosswords - Kids & Youth
DESCRIPTION:A mid-week pick me up for kids and youth! \nA high-energy ministry for kids and youth from kindergarten through 12th grade. Kids learn of God’s unconditional love and salvation through Jesus. It’s an hour of fun\, faith\, and food! Activities begin at 6 pm and conclude at 7 pm. See you there!!
URL:https://fbcchinatexas.com/event/crosswords-kids-youth-52/
LOCATION:FBC China\, TX\, 607 N Broadway\, China\, TX\, 77613\, United States
ATTACH;FMTTYPE=image/jpeg:https://fbcchinatexas.com/wp-content/uploads/2024/01/crosswords-event-6.jpg
ORGANIZER;CN="FBC China%2C TX":MAILTO:fbcchinasocial@gmail.com
END:VEVENT
BEGIN:VEVENT
DTSTART;TZID=America/Chicago:20250212T180000
DTEND;TZID=America/Chicago:20250212T190000
DTSTAMP:20260419T233845
CREATED:20250202T230320Z
LAST-MODIFIED:20250202T230320Z
UID:29431-1739383200-1739386800@fbcchinatexas.com
SUMMARY:Crosswords - Kids & Youth
DESCRIPTION:A mid-week pick me up for kids and youth! \nA high-energy ministry for kids and youth from kindergarten through 12th grade. Kids learn of God’s unconditional love and salvation through Jesus. It’s an hour of fun\, faith\, and food! Activities begin at 6 pm and conclude at 7 pm. See you there!!
URL:https://fbcchinatexas.com/event/crosswords-kids-youth-51/
LOCATION:FBC China\, TX\, 607 N Broadway\, China\, TX\, 77613\, United States
ATTACH;FMTTYPE=image/jpeg:https://fbcchinatexas.com/wp-content/uploads/2024/01/crosswords-event-6.jpg
ORGANIZER;CN="FBC China%2C TX":MAILTO:fbcchinasocial@gmail.com
END:VEVENT
BEGIN:VEVENT
DTSTART;TZID=America/Chicago:20250205T180000
DTEND;TZID=America/Chicago:20250205T190000
DTSTAMP:20260419T233845
CREATED:20250202T230304Z
LAST-MODIFIED:20250202T230304Z
UID:29429-1738778400-1738782000@fbcchinatexas.com
SUMMARY:Crosswords - Kids & Youth
DESCRIPTION:A mid-week pick me up for kids and youth! \nA high-energy ministry for kids and youth from kindergarten through 12th grade. Kids learn of God’s unconditional love and salvation through Jesus. It’s an hour of fun\, faith\, and food! Activities begin at 6 pm and conclude at 7 pm. See you there!!
URL:https://fbcchinatexas.com/event/crosswords-kids-youth-50/
LOCATION:FBC China\, TX\, 607 N Broadway\, China\, TX\, 77613\, United States
ATTACH;FMTTYPE=image/jpeg:https://fbcchinatexas.com/wp-content/uploads/2024/01/crosswords-event-6.jpg
ORGANIZER;CN="FBC China%2C TX":MAILTO:fbcchinasocial@gmail.com
END:VEVENT
BEGIN:VEVENT
DTSTART;TZID=America/Chicago:20250129T180000
DTEND;TZID=America/Chicago:20250129T190000
DTSTAMP:20260419T233845
CREATED:20250101T204039Z
LAST-MODIFIED:20250101T204039Z
UID:29404-1738173600-1738177200@fbcchinatexas.com
SUMMARY:Crosswords - Kids & Youth
DESCRIPTION:A mid-week pick me up for kids and youth! \nA high-energy ministry for kids and youth from kindergarten through 12th grade. Kids learn of God’s unconditional love and salvation through Jesus. It’s an hour of fun\, faith\, and food! Activities begin at 6 pm and conclude at 7 pm. See you there!!
URL:https://fbcchinatexas.com/event/crosswords-kids-youth-49/
LOCATION:FBC China\, TX\, 607 N Broadway\, China\, TX\, 77613\, United States
ATTACH;FMTTYPE=image/jpeg:https://fbcchinatexas.com/wp-content/uploads/2024/01/crosswords-event-6.jpg
ORGANIZER;CN="FBC China%2C TX":MAILTO:fbcchinasocial@gmail.com
END:VEVENT
BEGIN:VEVENT
DTSTART;TZID=America/Chicago:20250122T180000
DTEND;TZID=America/Chicago:20250122T190000
DTSTAMP:20260419T233845
CREATED:20250101T204022Z
LAST-MODIFIED:20250101T204022Z
UID:29402-1737568800-1737572400@fbcchinatexas.com
SUMMARY:Crosswords - Kids & Youth
DESCRIPTION:A mid-week pick me up for kids and youth! \nA high-energy ministry for kids and youth from kindergarten through 12th grade. Kids learn of God’s unconditional love and salvation through Jesus. It’s an hour of fun\, faith\, and food! Activities begin at 6 pm and conclude at 7 pm. See you there!!
URL:https://fbcchinatexas.com/event/crosswords-kids-youth-48/
LOCATION:FBC China\, TX\, 607 N Broadway\, China\, TX\, 77613\, United States
ATTACH;FMTTYPE=image/jpeg:https://fbcchinatexas.com/wp-content/uploads/2024/01/crosswords-event-6.jpg
ORGANIZER;CN="FBC China%2C TX":MAILTO:fbcchinasocial@gmail.com
END:VEVENT
BEGIN:VEVENT
DTSTART;TZID=America/Chicago:20250115T180000
DTEND;TZID=America/Chicago:20250115T190000
DTSTAMP:20260419T233845
CREATED:20250101T204006Z
LAST-MODIFIED:20250101T204006Z
UID:29400-1736964000-1736967600@fbcchinatexas.com
SUMMARY:Crosswords - Kids & Youth
DESCRIPTION:A mid-week pick me up for kids and youth! \nA high-energy ministry for kids and youth from kindergarten through 12th grade. Kids learn of God’s unconditional love and salvation through Jesus. It’s an hour of fun\, faith\, and food! Activities begin at 6 pm and conclude at 7 pm. See you there!!
URL:https://fbcchinatexas.com/event/crosswords-kids-youth-47/
LOCATION:FBC China\, TX\, 607 N Broadway\, China\, TX\, 77613\, United States
ATTACH;FMTTYPE=image/jpeg:https://fbcchinatexas.com/wp-content/uploads/2024/01/crosswords-event-6.jpg
ORGANIZER;CN="FBC China%2C TX":MAILTO:fbcchinasocial@gmail.com
END:VEVENT
BEGIN:VEVENT
DTSTART;TZID=America/Chicago:20250108T180000
DTEND;TZID=America/Chicago:20250108T190000
DTSTAMP:20260419T233845
CREATED:20250101T203946Z
LAST-MODIFIED:20250101T203946Z
UID:29398-1736359200-1736362800@fbcchinatexas.com
SUMMARY:Crosswords - Kids & Youth
DESCRIPTION:A mid-week pick me up for kids and youth! \nA high-energy ministry for kids and youth from kindergarten through 12th grade. Kids learn of God’s unconditional love and salvation through Jesus. It’s an hour of fun\, faith\, and food! Activities begin at 6 pm and conclude at 7 pm. See you there!!
URL:https://fbcchinatexas.com/event/crosswords-kids-youth-46/
LOCATION:FBC China\, TX\, 607 N Broadway\, China\, TX\, 77613\, United States
ATTACH;FMTTYPE=image/jpeg:https://fbcchinatexas.com/wp-content/uploads/2024/01/crosswords-event-6.jpg
ORGANIZER;CN="FBC China%2C TX":MAILTO:fbcchinasocial@gmail.com
END:VEVENT
BEGIN:VEVENT
DTSTART;TZID=America/Chicago:20250107T060000
DTEND;TZID=America/Chicago:20250107T190000
DTSTAMP:20260419T233845
CREATED:20250101T212919Z
LAST-MODIFIED:20250101T213235Z
UID:29406-1736229600-1736276400@fbcchinatexas.com
SUMMARY:Truth Tuesday
DESCRIPTION:A mid-week adult discipleship! \nA joyful christian ministry for adults held every Tuesday at guest homes throughout the community. It’s an hour of fun\, fellowship\, and the study of God’s Word! Activities begin at 6 pm and conclude at 7 pm. See you there!! \nThis Tuesday will be held at the Pastors Parsonage.
URL:https://fbcchinatexas.com/event/truth-tuesday/
LOCATION:Pastors Parsonage\, 232 W Vera St\, Beaumont\, TX\, 77713\, United States
CATEGORIES:Adult Ministries
ATTACH;FMTTYPE=image/png:https://fbcchinatexas.com/wp-content/uploads/2025/01/Truth-Tuesday-header.png
ORGANIZER;CN="FBC China%2C TX":MAILTO:fbcchinasocial@gmail.com
END:VEVENT
BEGIN:VEVENT
DTSTART;TZID=America/Chicago:20241218T180000
DTEND;TZID=America/Chicago:20241218T190000
DTSTAMP:20260419T233845
CREATED:20241208T232449Z
LAST-MODIFIED:20241208T232449Z
UID:29353-1734544800-1734548400@fbcchinatexas.com
SUMMARY:Crosswords - Kids & Youth
DESCRIPTION:A mid-week pick me up for kids and youth! \nA high-energy ministry for kids and youth from kindergarten through 12th grade. Kids learn of God’s unconditional love and salvation through Jesus. It’s an hour of fun\, faith\, and food! Activities begin at 6 pm and conclude at 7 pm. See you there!!
URL:https://fbcchinatexas.com/event/crosswords-kids-youth-45/
LOCATION:FBC China\, TX\, 607 N Broadway\, China\, TX\, 77613\, United States
ATTACH;FMTTYPE=image/jpeg:https://fbcchinatexas.com/wp-content/uploads/2024/01/crosswords-event-6.jpg
ORGANIZER;CN="FBC China%2C TX":MAILTO:fbcchinasocial@gmail.com
END:VEVENT
BEGIN:VEVENT
DTSTART;TZID=America/Chicago:20241211T180000
DTEND;TZID=America/Chicago:20241211T190000
DTSTAMP:20260419T233845
CREATED:20241208T232423Z
LAST-MODIFIED:20241208T232423Z
UID:29351-1733940000-1733943600@fbcchinatexas.com
SUMMARY:Crosswords - Kids & Youth
DESCRIPTION:A mid-week pick me up for kids and youth! \nA high-energy ministry for kids and youth from kindergarten through 12th grade. Kids learn of God’s unconditional love and salvation through Jesus. It’s an hour of fun\, faith\, and food! Activities begin at 6 pm and conclude at 7 pm. See you there!!
URL:https://fbcchinatexas.com/event/crosswords-kids-youth-44/
LOCATION:FBC China\, TX\, 607 N Broadway\, China\, TX\, 77613\, United States
ATTACH;FMTTYPE=image/jpeg:https://fbcchinatexas.com/wp-content/uploads/2024/01/crosswords-event-6.jpg
ORGANIZER;CN="FBC China%2C TX":MAILTO:fbcchinasocial@gmail.com
END:VEVENT
BEGIN:VEVENT
DTSTART;TZID=America/Chicago:20241204T180000
DTEND;TZID=America/Chicago:20241204T190000
DTSTAMP:20260419T233845
CREATED:20241208T232354Z
LAST-MODIFIED:20241208T232354Z
UID:29349-1733335200-1733338800@fbcchinatexas.com
SUMMARY:Crosswords - Kids & Youth
DESCRIPTION:A mid-week pick me up for kids and youth! \nA high-energy ministry for kids and youth from kindergarten through 12th grade. Kids learn of God’s unconditional love and salvation through Jesus. It’s an hour of fun\, faith\, and food! Activities begin at 6 pm and conclude at 7 pm. See you there!!
URL:https://fbcchinatexas.com/event/crosswords-kids-youth-43/
LOCATION:FBC China\, TX\, 607 N Broadway\, China\, TX\, 77613\, United States
ATTACH;FMTTYPE=image/jpeg:https://fbcchinatexas.com/wp-content/uploads/2024/01/crosswords-event-6.jpg
ORGANIZER;CN="FBC China%2C TX":MAILTO:fbcchinasocial@gmail.com
END:VEVENT
END:VCALENDAR