BEGIN:VCALENDAR
VERSION:2.0
PRODID:-//FBC China TX - ECPv6.11.2.1//NONSGML v1.0//EN
CALSCALE:GREGORIAN
METHOD:PUBLISH
X-WR-CALNAME:FBC China TX
X-ORIGINAL-URL:https://fbcchinatexas.com
X-WR-CALDESC:Events for FBC China TX
REFRESH-INTERVAL;VALUE=DURATION:PT1H
X-Robots-Tag:noindex
X-PUBLISHED-TTL:PT1H
BEGIN:VTIMEZONE
TZID:America/Chicago
BEGIN:DAYLIGHT
TZOFFSETFROM:-0600
TZOFFSETTO:-0500
TZNAME:CDT
DTSTART:20230312T080000
END:DAYLIGHT
BEGIN:STANDARD
TZOFFSETFROM:-0500
TZOFFSETTO:-0600
TZNAME:CST
DTSTART:20231105T070000
END:STANDARD
BEGIN:DAYLIGHT
TZOFFSETFROM:-0600
TZOFFSETTO:-0500
TZNAME:CDT
DTSTART:20240310T080000
END:DAYLIGHT
BEGIN:STANDARD
TZOFFSETFROM:-0500
TZOFFSETTO:-0600
TZNAME:CST
DTSTART:20241103T070000
END:STANDARD
END:VTIMEZONE
BEGIN:VEVENT
DTSTART;TZID=America/Chicago:20240214T180000
DTEND;TZID=America/Chicago:20240214T184500
DTSTAMP:20260421T063941
CREATED:20240108T002303Z
LAST-MODIFIED:20240108T002812Z
UID:26745-1707933600-1707936300@fbcchinatexas.com
SUMMARY:Foundations of Faith Study - Week 6
DESCRIPTION:Week 6 – What are Angels\, Satan\, and Demons?\nWhether you’re a relatively new believer in Jesus or a mature Christian looking for a better understanding of the basics of faith\, we look into these twenty basics as we study from the book “Christian Beliefs” by Wayne A. Grudem. Join us every Wednesday for a 20 week study\, all are welcome to attend!\nBook is not required to participate or attend. Feel free to purchase book and read along with us each week!
URL:https://fbcchinatexas.com/event/foundations-of-faith-study-week-six/
LOCATION:FBC China\, TX\, 607 N Broadway\, China\, TX\, 77613\, United States
ATTACH;FMTTYPE=image/jpeg:https://fbcchinatexas.com/wp-content/uploads/2024/01/Foundation-of-Faith-Event-5.jpg
ORGANIZER;CN="FBC China%2C TX":MAILTO:fbcchinasocial@gmail.com
END:VEVENT
BEGIN:VEVENT
DTSTART;TZID=America/Chicago:20240213T183000
DTEND;TZID=America/Chicago:20240213T193000
DTSTAMP:20260421T063941
CREATED:20240204T223734Z
LAST-MODIFIED:20240204T231507Z
UID:27107-1707849000-1707852600@fbcchinatexas.com
SUMMARY:Ladies Bible Study on Jude - Intro
DESCRIPTION:Week 1 – Intro to Jude –\nDuring this 8 week study\, we will recognize God’s Word as an anchor in the ever-shifting cultural climate. We will discover your God-given identity in a world of deception. We will learn how to point others to Jesus in grace and truth. This study will come from the book “Jude\, Contending For the Faith In Today’s Culture” by Jackie Hill Perry. \nBook is not required to participate or attend. Feel free to purchase book and read along with us each week!
URL:https://fbcchinatexas.com/event/ladies-bible-study-jude-week-1/
LOCATION:FBC China\, TX\, 607 N Broadway\, China\, TX\, 77613\, United States
ATTACH;FMTTYPE=image/jpeg:https://fbcchinatexas.com/wp-content/uploads/2024/02/Ladies-Bible-Study-Jude.jpg
ORGANIZER;CN="FBC China%2C TX":MAILTO:fbcchinasocial@gmail.com
END:VEVENT
BEGIN:VEVENT
DTSTART;TZID=America/Chicago:20240207T180000
DTEND;TZID=America/Chicago:20240207T190000
DTSTAMP:20260421T063941
CREATED:20240204T211511Z
LAST-MODIFIED:20240204T211511Z
UID:27098-1707328800-1707332400@fbcchinatexas.com
SUMMARY:Crosswords - Kids & Youth
DESCRIPTION:A mid-week pick me up for kids and youth! \nA high-energy ministry for kids and youth from kindergarten through 12th grade. Kids learn of God’s unconditional love and salvation through Jesus. It’s an hour of fun\, faith\, and food! Activities begin at 6 pm and conclude at 7 pm. See you there!!
URL:https://fbcchinatexas.com/event/crosswords-kids-youth/
LOCATION:FBC China\, TX\, 607 N Broadway\, China\, TX\, 77613\, United States
ATTACH;FMTTYPE=image/jpeg:https://fbcchinatexas.com/wp-content/uploads/2024/01/crosswords-event-6.jpg
ORGANIZER;CN="FBC China%2C TX":MAILTO:fbcchinasocial@gmail.com
END:VEVENT
BEGIN:VEVENT
DTSTART;TZID=America/Chicago:20240207T180000
DTEND;TZID=America/Chicago:20240207T184500
DTSTAMP:20260421T063941
CREATED:20240108T002208Z
LAST-MODIFIED:20240108T002828Z
UID:26743-1707328800-1707331500@fbcchinatexas.com
SUMMARY:Foundations of Faith Study - Week 5
DESCRIPTION:Week 5 – What is Prayer?\nWhether you’re a relatively new believer in Jesus or a mature Christian looking for a better understanding of the basics of faith\, we look into these twenty basics as we study from the book “Christian Beliefs” by Wayne A. Grudem. Join us every Wednesday for a 20 week study\, all are welcome to attend!\nBook is not required to participate or attend. Feel free to purchase book and read along with us each week!
URL:https://fbcchinatexas.com/event/foundations-of-faith-study-week-five/
LOCATION:FBC China\, TX\, 607 N Broadway\, China\, TX\, 77613\, United States
ATTACH;FMTTYPE=image/jpeg:https://fbcchinatexas.com/wp-content/uploads/2024/01/Foundation-of-Faith-Event-5.jpg
ORGANIZER;CN="FBC China%2C TX":MAILTO:fbcchinasocial@gmail.com
END:VEVENT
BEGIN:VEVENT
DTSTART;TZID=America/Chicago:20240131T180000
DTEND;TZID=America/Chicago:20240131T190000
DTSTAMP:20260421T063941
CREATED:20231231T212945Z
LAST-MODIFIED:20240128T213144Z
UID:26695-1706724000-1706727600@fbcchinatexas.com
SUMMARY:Crosswords - Family Night
DESCRIPTION:A mid-week pick me up for kids and youth! \nA high-energy ministry for kids and youth from kindergarten through 12th grade. Kids learn of God’s unconditional love and salvation through Jesus. It’s an hour of fun\, faith\, and food! Activities begin at 6 pm and conclude at 7 pm. \nFor Family Night we welcome all parents to join their kids for PIZZA\, PLAY\, and PRAY!
URL:https://fbcchinatexas.com/event/crosswords-30/
LOCATION:FBC China\, TX\, 607 N Broadway\, China\, TX\, 77613\, United States
ATTACH;FMTTYPE=image/jpeg:https://fbcchinatexas.com/wp-content/uploads/2024/01/crosswords-event-6.jpg
ORGANIZER;CN="FBC China%2C TX":MAILTO:fbcchinasocial@gmail.com
END:VEVENT
BEGIN:VEVENT
DTSTART;TZID=America/Chicago:20240131T180000
DTEND;TZID=America/Chicago:20240131T184500
DTSTAMP:20260421T063941
CREATED:20240108T002113Z
LAST-MODIFIED:20240108T002842Z
UID:26741-1706724000-1706726700@fbcchinatexas.com
SUMMARY:Foundations of Faith Study - Week 4
DESCRIPTION:Week 4 – What is Creation?\nWhether you’re a relatively new believer in Jesus or a mature Christian looking for a better understanding of the basics of faith\, we look into these twenty basics as we study from the book “Christian Beliefs” by Wayne A. Grudem. Join us every Wednesday for a 20 week study\, all are welcome to attend!\nBook is not required to participate or attend. Feel free to purchase book and read along with us each week!
URL:https://fbcchinatexas.com/event/foundations-of-faith-study-week-four/
LOCATION:FBC China\, TX\, 607 N Broadway\, China\, TX\, 77613\, United States
ATTACH;FMTTYPE=image/jpeg:https://fbcchinatexas.com/wp-content/uploads/2024/01/Foundation-of-Faith-Event-5.jpg
ORGANIZER;CN="FBC China%2C TX":MAILTO:fbcchinasocial@gmail.com
END:VEVENT
BEGIN:VEVENT
DTSTART;TZID=America/Chicago:20240131T180000
DTEND;TZID=America/Chicago:20240131T181500
DTSTAMP:20260421T063941
CREATED:20231231T212927Z
LAST-MODIFIED:20240117T221959Z
UID:26693-1706724000-1706724900@fbcchinatexas.com
SUMMARY:Prayer Meeting
DESCRIPTION:A mid-week fellowship of prayer and spiritual strength! \nWednesday nights we gather to give ourselves and our church members a midweek boost. At 6 pm in the church sanctuary\, there is typically a brief Bible study followed by an intense time of prayer. Prayer requests should be given to Cecil Wright by Tuesday to be included in the provided materials.
URL:https://fbcchinatexas.com/event/prayer-meeting-31/
LOCATION:FBC China\, TX\, 607 N Broadway\, China\, TX\, 77613\, United States
ATTACH;FMTTYPE=image/jpeg:https://fbcchinatexas.com/wp-content/uploads/2024/01/prayer-meeting-event-5.jpg
ORGANIZER;CN="FBC China%2C TX":MAILTO:fbcchinasocial@gmail.com
END:VEVENT
BEGIN:VEVENT
DTSTART;TZID=America/Chicago:20240124T180000
DTEND;TZID=America/Chicago:20240124T190000
DTSTAMP:20260421T063941
CREATED:20231231T212910Z
LAST-MODIFIED:20240117T222032Z
UID:26691-1706119200-1706122800@fbcchinatexas.com
SUMMARY:Crosswords - Kids & Youth
DESCRIPTION:A mid-week pick me up for kids and youth! \nA high-energy ministry for kids and youth from kindergarten through 12th grade. Kids learn of God’s unconditional love and salvation through Jesus. It’s an hour of fun\, faith\, and food! Activities begin at 6 pm and conclude at 7 pm. See you there!!
URL:https://fbcchinatexas.com/event/crosswords-29/
LOCATION:FBC China\, TX\, 607 N Broadway\, China\, TX\, 77613\, United States
ATTACH;FMTTYPE=image/jpeg:https://fbcchinatexas.com/wp-content/uploads/2024/01/crosswords-event-6.jpg
ORGANIZER;CN="FBC China%2C TX":MAILTO:fbcchinasocial@gmail.com
END:VEVENT
BEGIN:VEVENT
DTSTART;TZID=America/Chicago:20240124T180000
DTEND;TZID=America/Chicago:20240124T184500
DTSTAMP:20260421T063941
CREATED:20240108T002012Z
LAST-MODIFIED:20240108T002900Z
UID:26739-1706119200-1706121900@fbcchinatexas.com
SUMMARY:Foundations of Faith Study - Week 3
DESCRIPTION:Week 3 – What is the Trinity?\nWhether you’re a relatively new believer in Jesus or a mature Christian looking for a better understanding of the basics of faith\, we look into these twenty basics as we study from the book “Christian Beliefs” by Wayne A. Grudem. Join us every Wednesday for a 20 week study\, all are welcome to attend!\nBook is not required to participate or attend. Feel free to purchase book and read along with us each week!
URL:https://fbcchinatexas.com/event/foundations-of-faith-study-week-three/
LOCATION:FBC China\, TX\, 607 N Broadway\, China\, TX\, 77613\, United States
ATTACH;FMTTYPE=image/jpeg:https://fbcchinatexas.com/wp-content/uploads/2024/01/Foundation-of-Faith-Event-5.jpg
ORGANIZER;CN="FBC China%2C TX":MAILTO:fbcchinasocial@gmail.com
END:VEVENT
BEGIN:VEVENT
DTSTART;TZID=America/Chicago:20240124T180000
DTEND;TZID=America/Chicago:20240124T181500
DTSTAMP:20260421T063941
CREATED:20231231T212851Z
LAST-MODIFIED:20240117T222050Z
UID:26689-1706119200-1706120100@fbcchinatexas.com
SUMMARY:Prayer Meeting
DESCRIPTION:A mid-week fellowship of prayer and spiritual strength! \nWednesday nights we gather to give ourselves and our church members a midweek boost. At 6 pm in the church sanctuary\, there is typically a brief Bible study followed by an intense time of prayer. Prayer requests should be given to Cecil Wright by Tuesday to be included in the provided materials.
URL:https://fbcchinatexas.com/event/prayer-meeting-30/
LOCATION:FBC China\, TX\, 607 N Broadway\, China\, TX\, 77613\, United States
ATTACH;FMTTYPE=image/jpeg:https://fbcchinatexas.com/wp-content/uploads/2024/01/prayer-meeting-event-5.jpg
ORGANIZER;CN="FBC China%2C TX":MAILTO:fbcchinasocial@gmail.com
END:VEVENT
BEGIN:VEVENT
DTSTART;TZID=America/Chicago:20240117T180000
DTEND;TZID=America/Chicago:20240117T190000
DTSTAMP:20260421T063941
CREATED:20231231T212835Z
LAST-MODIFIED:20240117T221905Z
UID:26687-1705514400-1705518000@fbcchinatexas.com
SUMMARY:Crosswords - Kids & Youth
DESCRIPTION:A mid-week pick me up for kids and youth! \nA high-energy ministry for kids and youth from kindergarten through 12th grade. Kids learn of God’s unconditional love and salvation through Jesus. It’s an hour of fun\, faith\, and food! Activities begin at 6 pm and conclude at 7 pm. See you there!!
URL:https://fbcchinatexas.com/event/crosswords-28/
LOCATION:FBC China\, TX\, 607 N Broadway\, China\, TX\, 77613\, United States
ATTACH;FMTTYPE=image/jpeg:https://fbcchinatexas.com/wp-content/uploads/2024/01/crosswords-event-6.jpg
ORGANIZER;CN="FBC China%2C TX":MAILTO:fbcchinasocial@gmail.com
END:VEVENT
BEGIN:VEVENT
DTSTART;TZID=America/Chicago:20240117T180000
DTEND;TZID=America/Chicago:20240117T184500
DTSTAMP:20260421T063941
CREATED:20240108T001918Z
LAST-MODIFIED:20240108T002915Z
UID:26737-1705514400-1705517100@fbcchinatexas.com
SUMMARY:Foundations of Faith Study - Week 2
DESCRIPTION:Week 2 – What is God Like?\nWhether you’re a relatively new believer in Jesus or a mature Christian looking for a better understanding of the basics of faith\, we look into these twenty basics as we study from the book “Christian Beliefs” by Wayne A. Grudem. Join us every Wednesday for a 20 week study\, all are welcome to attend!\nBook is not required to participate or attend. Feel free to purchase book and read along with us each week!
URL:https://fbcchinatexas.com/event/foundations-of-faith-study-week-two/
LOCATION:FBC China\, TX\, 607 N Broadway\, China\, TX\, 77613\, United States
ATTACH;FMTTYPE=image/jpeg:https://fbcchinatexas.com/wp-content/uploads/2024/01/Foundation-of-Faith-Event-5.jpg
ORGANIZER;CN="FBC China%2C TX":MAILTO:fbcchinasocial@gmail.com
END:VEVENT
BEGIN:VEVENT
DTSTART;TZID=America/Chicago:20240117T180000
DTEND;TZID=America/Chicago:20240117T181500
DTSTAMP:20260421T063941
CREATED:20231231T212818Z
LAST-MODIFIED:20240117T221819Z
UID:26685-1705514400-1705515300@fbcchinatexas.com
SUMMARY:Prayer Meeting
DESCRIPTION:A mid-week fellowship of prayer and spiritual strength! \nWednesday nights we gather to give ourselves and our church members a midweek boost. At 6 pm in the church sanctuary\, there is typically a brief Bible study followed by an intense time of prayer. Prayer requests should be given to Cecil Wright by Tuesday to be included in the provided materials.
URL:https://fbcchinatexas.com/event/prayer-meeting-29/
LOCATION:FBC China\, TX\, 607 N Broadway\, China\, TX\, 77613\, United States
ATTACH;FMTTYPE=image/jpeg:https://fbcchinatexas.com/wp-content/uploads/2024/01/prayer-meeting-event-5.jpg
ORGANIZER;CN="FBC China%2C TX":MAILTO:fbcchinasocial@gmail.com
END:VEVENT
BEGIN:VEVENT
DTSTART;TZID=America/Chicago:20240110T180000
DTEND;TZID=America/Chicago:20240110T190000
DTSTAMP:20260421T063941
CREATED:20231231T212801Z
LAST-MODIFIED:20240117T222113Z
UID:26681-1704909600-1704913200@fbcchinatexas.com
SUMMARY:Crosswords - Kids & Youth
DESCRIPTION:A mid-week pick me up for kids and youth! \nA high-energy ministry for kids and youth from kindergarten through 12th grade. Kids learn of God’s unconditional love and salvation through Jesus. It’s an hour of fun\, faith\, and food! Activities begin at 6 pm and conclude at 7 pm. See you there!!
URL:https://fbcchinatexas.com/event/crosswords-27/
LOCATION:FBC China\, TX\, 607 N Broadway\, China\, TX\, 77613\, United States
ATTACH;FMTTYPE=image/jpeg:https://fbcchinatexas.com/wp-content/uploads/2024/01/crosswords-event-6.jpg
ORGANIZER;CN="FBC China%2C TX":MAILTO:fbcchinasocial@gmail.com
END:VEVENT
BEGIN:VEVENT
DTSTART;TZID=America/Chicago:20240110T180000
DTEND;TZID=America/Chicago:20240110T184500
DTSTAMP:20260421T063941
CREATED:20240108T001710Z
LAST-MODIFIED:20240108T001710Z
UID:26715-1704909600-1704912300@fbcchinatexas.com
SUMMARY:Foundations of Faith Study - Week 1
DESCRIPTION:Week 1 – What is the Bible?\nWhether you’re a relatively new believer in Jesus or a mature Christian looking for a better understanding of the basics of faith\, we look into these twenty basics as we study from the book “Christian Beliefs” by Wayne A. Grudem. Join us every Wednesday for a 20 week study\, all are welcome to attend!\nBook is not required to participate or attend. Feel free to purchase book and read along with us each week!
URL:https://fbcchinatexas.com/event/foundations-of-faith-book-study-week-one/
LOCATION:FBC China\, TX\, 607 N Broadway\, China\, TX\, 77613\, United States
ATTACH;FMTTYPE=image/jpeg:https://fbcchinatexas.com/wp-content/uploads/2024/01/Foundation-of-Faith-Event-5.jpg
ORGANIZER;CN="FBC China%2C TX":MAILTO:fbcchinasocial@gmail.com
END:VEVENT
BEGIN:VEVENT
DTSTART;TZID=America/Chicago:20240110T180000
DTEND;TZID=America/Chicago:20240110T181500
DTSTAMP:20260421T063941
CREATED:20231231T212746Z
LAST-MODIFIED:20240117T222132Z
UID:26682-1704909600-1704910500@fbcchinatexas.com
SUMMARY:Prayer Meeting
DESCRIPTION:A mid-week fellowship of prayer and spiritual strength! \nWednesday nights we gather to give ourselves and our church members a midweek boost. At 6 pm in the church sanctuary\, there is typically a brief Bible study followed by an intense time of prayer. Prayer requests should be given to Cecil Wright by Tuesday to be included in the provided materials.
URL:https://fbcchinatexas.com/event/prayer-meeting-28/
LOCATION:FBC China\, TX\, 607 N Broadway\, China\, TX\, 77613\, United States
ATTACH;FMTTYPE=image/jpeg:https://fbcchinatexas.com/wp-content/uploads/2024/01/prayer-meeting-event-5.jpg
ORGANIZER;CN="FBC China%2C TX":MAILTO:fbcchinasocial@gmail.com
END:VEVENT
BEGIN:VEVENT
DTSTART;TZID=America/Chicago:20240103T180000
DTEND;TZID=America/Chicago:20240103T190000
DTSTAMP:20260421T063941
CREATED:20231231T212719Z
LAST-MODIFIED:20240117T222151Z
UID:26679-1704304800-1704308400@fbcchinatexas.com
SUMMARY:Crosswords - Kids & Youth
DESCRIPTION:A mid-week pick me up for kids and youth! \nA high-energy ministry for kids and youth from kindergarten through 12th grade. Kids learn of God’s unconditional love and salvation through Jesus. It’s an hour of fun\, faith\, and food! Activities begin at 6 pm and conclude at 7 pm. See you there!!
URL:https://fbcchinatexas.com/event/crosswords-26/
LOCATION:FBC China\, TX\, 607 N Broadway\, China\, TX\, 77613\, United States
ATTACH;FMTTYPE=image/jpeg:https://fbcchinatexas.com/wp-content/uploads/2024/01/crosswords-event-6.jpg
ORGANIZER;CN="FBC China%2C TX":MAILTO:fbcchinasocial@gmail.com
END:VEVENT
BEGIN:VEVENT
DTSTART;TZID=America/Chicago:20240103T180000
DTEND;TZID=America/Chicago:20240103T181500
DTSTAMP:20260421T063941
CREATED:20231231T212701Z
LAST-MODIFIED:20240117T222208Z
UID:26677-1704304800-1704305700@fbcchinatexas.com
SUMMARY:Prayer Meeting
DESCRIPTION:A mid-week fellowship of prayer and spiritual strength! \nWednesday nights we gather to give ourselves and our church members a midweek boost. At 6 pm in the church sanctuary\, there is typically a brief Bible study followed by an intense time of prayer. Prayer requests should be given to Cecil Wright by Tuesday to be included in the provided materials.
URL:https://fbcchinatexas.com/event/prayer-meeting-27/
LOCATION:FBC China\, TX\, 607 N Broadway\, China\, TX\, 77613\, United States
ATTACH;FMTTYPE=image/jpeg:https://fbcchinatexas.com/wp-content/uploads/2024/01/prayer-meeting-event-5.jpg
ORGANIZER;CN="FBC China%2C TX":MAILTO:fbcchinasocial@gmail.com
END:VEVENT
BEGIN:VEVENT
DTSTART;TZID=America/Chicago:20231227T180000
DTEND;TZID=America/Chicago:20231227T190000
DTSTAMP:20260421T063941
CREATED:20231217T234623Z
LAST-MODIFIED:20231217T234623Z
UID:26629-1703700000-1703703600@fbcchinatexas.com
SUMMARY:Crosswords
DESCRIPTION:A mid-week pick me up for kids and youth! \nA high-energy ministry for kids and youth from kindergarten through 12th grade. Kids learn of God’s unconditional love and salvation through Jesus. It’s an hour of fun\, faith\, and food! Activities begin at 6 pm and conclude at 7 pm. See you there!!
URL:https://fbcchinatexas.com/event/crosswords-25/
LOCATION:FBC China\, TX\, 607 N Broadway\, China\, TX\, 77613\, United States
ATTACH;FMTTYPE=image/jpeg:https://fbcchinatexas.com/wp-content/uploads/2023/07/crosswords-event-3.jpg
ORGANIZER;CN="FBC China%2C TX":MAILTO:fbcchinasocial@gmail.com
END:VEVENT
BEGIN:VEVENT
DTSTART;TZID=America/Chicago:20231227T180000
DTEND;TZID=America/Chicago:20231227T183000
DTSTAMP:20260421T063941
CREATED:20231217T234600Z
LAST-MODIFIED:20231217T234600Z
UID:26627-1703700000-1703701800@fbcchinatexas.com
SUMMARY:Prayer Meeting
DESCRIPTION:A mid-week fellowship of prayer and spiritual strength! \nWednesday nights we gather to give ourselves and our church members a midweek boost. At 6 pm in the church sanctuary\, there is typically a brief Bible study followed by an intense time of prayer. Prayer requests should be given to Cecil Wright by Tuesday to be included in the provided materials.
URL:https://fbcchinatexas.com/event/prayer-meeting-26/
LOCATION:FBC China\, TX\, 607 N Broadway\, China\, TX\, 77613\, United States
ATTACH;FMTTYPE=image/jpeg:https://fbcchinatexas.com/wp-content/uploads/2023/07/prayer-meeting-event-3.jpg
ORGANIZER;CN="FBC China%2C TX":MAILTO:fbcchinasocial@gmail.com
END:VEVENT
BEGIN:VEVENT
DTSTART;TZID=America/Chicago:20231224T180000
DTEND;TZID=America/Chicago:20231224T190000
DTSTAMP:20260421T063941
CREATED:20231217T235503Z
LAST-MODIFIED:20231217T235535Z
UID:26631-1703440800-1703444400@fbcchinatexas.com
SUMMARY:Christmas Eve - Candle Light Service
DESCRIPTION:Candle Light Service\n \nAll are welcome to join us at the church on Christmas Eve to celebrate the birth of Jesus! We will enjoy wonderful Christmas praise and worship music from our talented Praise Team followed by a candle illumination on this special day! Bring your family\, bring a friend\, and let us worship together!
URL:https://fbcchinatexas.com/event/christmas-eve-candle-light-service/
LOCATION:FBC China\, TX\, 607 N Broadway\, China\, TX\, 77613\, United States
ATTACH;FMTTYPE=image/jpeg:https://fbcchinatexas.com/wp-content/uploads/2023/12/Christmas-Eve-2023-event.jpg
ORGANIZER;CN="FBC China%2C TX":MAILTO:fbcchinasocial@gmail.com
END:VEVENT
BEGIN:VEVENT
DTSTART;TZID=America/Chicago:20231220T180000
DTEND;TZID=America/Chicago:20231220T190000
DTSTAMP:20260421T063941
CREATED:20231217T234516Z
LAST-MODIFIED:20231217T234516Z
UID:26625-1703095200-1703098800@fbcchinatexas.com
SUMMARY:Crosswords
DESCRIPTION:A mid-week pick me up for kids and youth! \nA high-energy ministry for kids and youth from kindergarten through 12th grade. Kids learn of God’s unconditional love and salvation through Jesus. It’s an hour of fun\, faith\, and food! Activities begin at 6 pm and conclude at 7 pm. See you there!!
URL:https://fbcchinatexas.com/event/crosswords-24/
LOCATION:FBC China\, TX\, 607 N Broadway\, China\, TX\, 77613\, United States
ATTACH;FMTTYPE=image/jpeg:https://fbcchinatexas.com/wp-content/uploads/2023/07/crosswords-event-3.jpg
ORGANIZER;CN="FBC China%2C TX":MAILTO:fbcchinasocial@gmail.com
END:VEVENT
BEGIN:VEVENT
DTSTART;TZID=America/Chicago:20231220T180000
DTEND;TZID=America/Chicago:20231220T183000
DTSTAMP:20260421T063941
CREATED:20231217T234446Z
LAST-MODIFIED:20231217T234446Z
UID:26623-1703095200-1703097000@fbcchinatexas.com
SUMMARY:Prayer Meeting
DESCRIPTION:A mid-week fellowship of prayer and spiritual strength! \nWednesday nights we gather to give ourselves and our church members a midweek boost. At 6 pm in the church sanctuary\, there is typically a brief Bible study followed by an intense time of prayer. Prayer requests should be given to Cecil Wright by Tuesday to be included in the provided materials.
URL:https://fbcchinatexas.com/event/prayer-meeting-25/
LOCATION:FBC China\, TX\, 607 N Broadway\, China\, TX\, 77613\, United States
ATTACH;FMTTYPE=image/jpeg:https://fbcchinatexas.com/wp-content/uploads/2023/07/prayer-meeting-event-3.jpg
ORGANIZER;CN="FBC China%2C TX":MAILTO:fbcchinasocial@gmail.com
END:VEVENT
BEGIN:VEVENT
DTSTART;TZID=America/Chicago:20231213T180000
DTEND;TZID=America/Chicago:20231213T190000
DTSTAMP:20260421T063941
CREATED:20231120T034729Z
LAST-MODIFIED:20231120T034729Z
UID:26574-1702490400-1702494000@fbcchinatexas.com
SUMMARY:Crosswords
DESCRIPTION:A mid-week pick me up for kids and youth! \nA high-energy ministry for kids and youth from kindergarten through 12th grade. Kids learn of God’s unconditional love and salvation through Jesus. It’s an hour of fun\, faith\, and food! Activities begin at 6 pm and conclude at 7 pm. See you there!!
URL:https://fbcchinatexas.com/event/crosswords-23/
LOCATION:FBC China\, TX\, 607 N Broadway\, China\, TX\, 77613\, United States
ATTACH;FMTTYPE=image/jpeg:https://fbcchinatexas.com/wp-content/uploads/2023/07/crosswords-event-3.jpg
ORGANIZER;CN="FBC China%2C TX":MAILTO:fbcchinasocial@gmail.com
END:VEVENT
BEGIN:VEVENT
DTSTART;TZID=America/Chicago:20231213T180000
DTEND;TZID=America/Chicago:20231213T183000
DTSTAMP:20260421T063941
CREATED:20231120T034705Z
LAST-MODIFIED:20231120T034705Z
UID:26572-1702490400-1702492200@fbcchinatexas.com
SUMMARY:Prayer Meeting
DESCRIPTION:A mid-week fellowship of prayer and spiritual strength! \nWednesday nights we gather to give ourselves and our church members a midweek boost. At 6 pm in the church sanctuary\, there is typically a brief Bible study followed by an intense time of prayer. Prayer requests should be given to Cecil Wright by Tuesday to be included in the provided materials.
URL:https://fbcchinatexas.com/event/prayer-meeting-24/
LOCATION:FBC China\, TX\, 607 N Broadway\, China\, TX\, 77613\, United States
ATTACH;FMTTYPE=image/jpeg:https://fbcchinatexas.com/wp-content/uploads/2023/07/prayer-meeting-event-3.jpg
ORGANIZER;CN="FBC China%2C TX":MAILTO:fbcchinasocial@gmail.com
END:VEVENT
BEGIN:VEVENT
DTSTART;TZID=America/Chicago:20231206T180000
DTEND;TZID=America/Chicago:20231206T190000
DTSTAMP:20260421T063941
CREATED:20231120T034643Z
LAST-MODIFIED:20231120T034643Z
UID:26570-1701885600-1701889200@fbcchinatexas.com
SUMMARY:Crosswords
DESCRIPTION:A mid-week pick me up for kids and youth! \nA high-energy ministry for kids and youth from kindergarten through 12th grade. Kids learn of God’s unconditional love and salvation through Jesus. It’s an hour of fun\, faith\, and food! Activities begin at 6 pm and conclude at 7 pm. See you there!!
URL:https://fbcchinatexas.com/event/crosswords-21/
LOCATION:FBC China\, TX\, 607 N Broadway\, China\, TX\, 77613\, United States
ATTACH;FMTTYPE=image/jpeg:https://fbcchinatexas.com/wp-content/uploads/2023/07/crosswords-event-3.jpg
ORGANIZER;CN="FBC China%2C TX":MAILTO:fbcchinasocial@gmail.com
END:VEVENT
BEGIN:VEVENT
DTSTART;TZID=America/Chicago:20231206T180000
DTEND;TZID=America/Chicago:20231206T183000
DTSTAMP:20260421T063941
CREATED:20231120T034617Z
LAST-MODIFIED:20231120T034617Z
UID:26568-1701885600-1701887400@fbcchinatexas.com
SUMMARY:Prayer Meeting
DESCRIPTION:A mid-week fellowship of prayer and spiritual strength! \nWednesday nights we gather to give ourselves and our church members a midweek boost. At 6 pm in the church sanctuary\, there is typically a brief Bible study followed by an intense time of prayer. Prayer requests should be given to Cecil Wright by Tuesday to be included in the provided materials.
URL:https://fbcchinatexas.com/event/prayer-meeting-23/
LOCATION:FBC China\, TX\, 607 N Broadway\, China\, TX\, 77613\, United States
ATTACH;FMTTYPE=image/jpeg:https://fbcchinatexas.com/wp-content/uploads/2023/07/prayer-meeting-event-3.jpg
ORGANIZER;CN="FBC China%2C TX":MAILTO:fbcchinasocial@gmail.com
END:VEVENT
BEGIN:VEVENT
DTSTART;TZID=America/Chicago:20231129T180000
DTEND;TZID=America/Chicago:20231129T190000
DTSTAMP:20260421T063941
CREATED:20231104T002113Z
LAST-MODIFIED:20231120T034525Z
UID:26536-1701280800-1701284400@fbcchinatexas.com
SUMMARY:Crosswords - Jesus & Hotdogs
DESCRIPTION:A mid-week pick me up for kids and youth! \nA high-energy ministry for kids and youth from kindergarten through 12th grade. Kids learn of God’s unconditional love and salvation through Jesus. It’s an hour of fun\, faith\, and food! Activities begin at 6 pm and conclude at 7 pm. See you there!! \nThis week we are having a special “Jesus and Hotdogs” event and everyone is invited!
URL:https://fbcchinatexas.com/event/crosswords-22/
LOCATION:FBC China\, TX\, 607 N Broadway\, China\, TX\, 77613\, United States
ATTACH;FMTTYPE=image/jpeg:https://fbcchinatexas.com/wp-content/uploads/2023/07/crosswords-event-3.jpg
ORGANIZER;CN="FBC China%2C TX":MAILTO:fbcchinasocial@gmail.com
END:VEVENT
BEGIN:VEVENT
DTSTART;TZID=America/Chicago:20231129T180000
DTEND;TZID=America/Chicago:20231129T183000
DTSTAMP:20260421T063941
CREATED:20231104T002048Z
LAST-MODIFIED:20231104T002048Z
UID:26534-1701280800-1701282600@fbcchinatexas.com
SUMMARY:Prayer Meeting
DESCRIPTION:A mid-week fellowship of prayer and spiritual strength! \nWednesday nights we gather to give ourselves and our church members a midweek boost. At 6 pm in the church sanctuary\, there is typically a brief Bible study followed by an intense time of prayer. Prayer requests should be given to Cecil Wright by Tuesday to be included in the provided materials.
URL:https://fbcchinatexas.com/event/prayer-meeting-22/
LOCATION:FBC China\, TX\, 607 N Broadway\, China\, TX\, 77613\, United States
ATTACH;FMTTYPE=image/jpeg:https://fbcchinatexas.com/wp-content/uploads/2023/07/prayer-meeting-event-3.jpg
ORGANIZER;CN="FBC China%2C TX":MAILTO:fbcchinasocial@gmail.com
END:VEVENT
BEGIN:VEVENT
DTSTART;TZID=America/Chicago:20231122T180000
DTEND;TZID=America/Chicago:20231122T183000
DTSTAMP:20260421T063941
CREATED:20231104T002005Z
LAST-MODIFIED:20231104T002005Z
UID:26530-1700676000-1700677800@fbcchinatexas.com
SUMMARY:Prayer Meeting
DESCRIPTION:A mid-week fellowship of prayer and spiritual strength! \nWednesday nights we gather to give ourselves and our church members a midweek boost. At 6 pm in the church sanctuary\, there is typically a brief Bible study followed by an intense time of prayer. Prayer requests should be given to Cecil Wright by Tuesday to be included in the provided materials.
URL:https://fbcchinatexas.com/event/prayer-meeting-21/
LOCATION:FBC China\, TX\, 607 N Broadway\, China\, TX\, 77613\, United States
ATTACH;FMTTYPE=image/jpeg:https://fbcchinatexas.com/wp-content/uploads/2023/07/prayer-meeting-event-3.jpg
ORGANIZER;CN="FBC China%2C TX":MAILTO:fbcchinasocial@gmail.com
END:VEVENT
END:VCALENDAR