BEGIN:VCALENDAR
VERSION:2.0
PRODID:-//FBC China TX - ECPv6.11.2.1//NONSGML v1.0//EN
CALSCALE:GREGORIAN
METHOD:PUBLISH
X-ORIGINAL-URL:https://fbcchinatexas.com
X-WR-CALDESC:Events for FBC China TX
REFRESH-INTERVAL;VALUE=DURATION:PT1H
X-Robots-Tag:noindex
X-PUBLISHED-TTL:PT1H
BEGIN:VTIMEZONE
TZID:America/Chicago
BEGIN:DAYLIGHT
TZOFFSETFROM:-0600
TZOFFSETTO:-0500
TZNAME:CDT
DTSTART:20230312T080000
END:DAYLIGHT
BEGIN:STANDARD
TZOFFSETFROM:-0500
TZOFFSETTO:-0600
TZNAME:CST
DTSTART:20231105T070000
END:STANDARD
END:VTIMEZONE
BEGIN:VEVENT
DTSTART;TZID=America/Chicago:20231018T180000
DTEND;TZID=America/Chicago:20231018T190000
DTSTAMP:20260421T194518
CREATED:20230928T213134Z
LAST-MODIFIED:20230928T213134Z
UID:26152-1697652000-1697655600@fbcchinatexas.com
SUMMARY:Crosswords
DESCRIPTION:A mid-week pick me up for kids and youth! \nA high-energy ministry for kids and youth from kindergarten through 12th grade. Kids learn of God’s unconditional love and salvation through Jesus. It’s an hour of fun\, faith\, and food! Activities begin at 6 pm and conclude at 7 pm. See you there!!
URL:https://fbcchinatexas.com/event/crosswords-16/
LOCATION:FBC China\, TX\, 607 N Broadway\, China\, TX\, 77613\, United States
ATTACH;FMTTYPE=image/jpeg:https://fbcchinatexas.com/wp-content/uploads/2023/07/crosswords-event-3.jpg
ORGANIZER;CN="FBC China%2C TX":MAILTO:fbcchinasocial@gmail.com
END:VEVENT
BEGIN:VEVENT
DTSTART;TZID=America/Chicago:20231018T180000
DTEND;TZID=America/Chicago:20231018T183000
DTSTAMP:20260421T194518
CREATED:20230928T213117Z
LAST-MODIFIED:20230928T213117Z
UID:26150-1697652000-1697653800@fbcchinatexas.com
SUMMARY:Prayer Meeting
DESCRIPTION:A mid-week fellowship of prayer and spiritual strength! \nWednesday nights we gather to give ourselves and our church members a midweek boost. At 6 pm in the church sanctuary\, there is typically a brief Bible study followed by an intense time of prayer. Prayer requests should be given to Cecil Wright by Tuesday to be included in the provided materials.
URL:https://fbcchinatexas.com/event/prayer-meeting-16/
LOCATION:FBC China\, TX\, 607 N Broadway\, China\, TX\, 77613\, United States
ATTACH;FMTTYPE=image/jpeg:https://fbcchinatexas.com/wp-content/uploads/2023/07/prayer-meeting-event-3.jpg
ORGANIZER;CN="FBC China%2C TX":MAILTO:fbcchinasocial@gmail.com
END:VEVENT
BEGIN:VEVENT
DTSTART;TZID=America/Chicago:20231011T180000
DTEND;TZID=America/Chicago:20231011T190000
DTSTAMP:20260421T194518
CREATED:20230928T213059Z
LAST-MODIFIED:20230928T213059Z
UID:26148-1697047200-1697050800@fbcchinatexas.com
SUMMARY:Crosswords
DESCRIPTION:A mid-week pick me up for kids and youth! \nA high-energy ministry for kids and youth from kindergarten through 12th grade. Kids learn of God’s unconditional love and salvation through Jesus. It’s an hour of fun\, faith\, and food! Activities begin at 6 pm and conclude at 7 pm. See you there!!
URL:https://fbcchinatexas.com/event/crosswords-15/
LOCATION:FBC China\, TX\, 607 N Broadway\, China\, TX\, 77613\, United States
ATTACH;FMTTYPE=image/jpeg:https://fbcchinatexas.com/wp-content/uploads/2023/07/crosswords-event-3.jpg
ORGANIZER;CN="FBC China%2C TX":MAILTO:fbcchinasocial@gmail.com
END:VEVENT
BEGIN:VEVENT
DTSTART;TZID=America/Chicago:20231011T180000
DTEND;TZID=America/Chicago:20231011T183000
DTSTAMP:20260421T194518
CREATED:20230928T213038Z
LAST-MODIFIED:20230928T213038Z
UID:26146-1697047200-1697049000@fbcchinatexas.com
SUMMARY:Prayer Meeting
DESCRIPTION:A mid-week fellowship of prayer and spiritual strength! \nWednesday nights we gather to give ourselves and our church members a midweek boost. At 6 pm in the church sanctuary\, there is typically a brief Bible study followed by an intense time of prayer. Prayer requests should be given to Cecil Wright by Tuesday to be included in the provided materials.
URL:https://fbcchinatexas.com/event/prayer-meeting-15/
LOCATION:FBC China\, TX\, 607 N Broadway\, China\, TX\, 77613\, United States
ATTACH;FMTTYPE=image/jpeg:https://fbcchinatexas.com/wp-content/uploads/2023/07/prayer-meeting-event-3.jpg
ORGANIZER;CN="FBC China%2C TX":MAILTO:fbcchinasocial@gmail.com
END:VEVENT
BEGIN:VEVENT
DTSTART;TZID=America/Chicago:20231004T180000
DTEND;TZID=America/Chicago:20231004T190000
DTSTAMP:20260421T194518
CREATED:20230928T213018Z
LAST-MODIFIED:20230928T213018Z
UID:26144-1696442400-1696446000@fbcchinatexas.com
SUMMARY:Crosswords
DESCRIPTION:A mid-week pick me up for kids and youth! \nA high-energy ministry for kids and youth from kindergarten through 12th grade. Kids learn of God’s unconditional love and salvation through Jesus. It’s an hour of fun\, faith\, and food! Activities begin at 6 pm and conclude at 7 pm. See you there!!
URL:https://fbcchinatexas.com/event/crosswords-14/
LOCATION:FBC China\, TX\, 607 N Broadway\, China\, TX\, 77613\, United States
ATTACH;FMTTYPE=image/jpeg:https://fbcchinatexas.com/wp-content/uploads/2023/07/crosswords-event-3.jpg
ORGANIZER;CN="FBC China%2C TX":MAILTO:fbcchinasocial@gmail.com
END:VEVENT
BEGIN:VEVENT
DTSTART;TZID=America/Chicago:20231004T180000
DTEND;TZID=America/Chicago:20231004T183000
DTSTAMP:20260421T194518
CREATED:20230928T212950Z
LAST-MODIFIED:20230928T212950Z
UID:26142-1696442400-1696444200@fbcchinatexas.com
SUMMARY:Prayer Meeting
DESCRIPTION:A mid-week fellowship of prayer and spiritual strength! \nWednesday nights we gather to give ourselves and our church members a midweek boost. At 6 pm in the church sanctuary\, there is typically a brief Bible study followed by an intense time of prayer. Prayer requests should be given to Cecil Wright by Tuesday to be included in the provided materials.
URL:https://fbcchinatexas.com/event/prayer-meeting-14/
LOCATION:FBC China\, TX\, 607 N Broadway\, China\, TX\, 77613\, United States
ATTACH;FMTTYPE=image/jpeg:https://fbcchinatexas.com/wp-content/uploads/2023/07/prayer-meeting-event-3.jpg
ORGANIZER;CN="FBC China%2C TX":MAILTO:fbcchinasocial@gmail.com
END:VEVENT
BEGIN:VEVENT
DTSTART;TZID=America/Chicago:20230927T180000
DTEND;TZID=America/Chicago:20230927T190000
DTSTAMP:20260421T194518
CREATED:20230826T185929Z
LAST-MODIFIED:20230826T185929Z
UID:26006-1695837600-1695841200@fbcchinatexas.com
SUMMARY:Crosswords
DESCRIPTION:A mid-week pick me up for kids and youth! \nA high-energy ministry for kids and youth from kindergarten through 12th grade. Kids learn of God’s unconditional love and salvation through Jesus. It’s an hour of fun\, faith\, and food! Activities begin at 6 pm and conclude at 7 pm. See you there!!
URL:https://fbcchinatexas.com/event/crosswords-13/
LOCATION:FBC China\, TX\, 607 N Broadway\, China\, TX\, 77613\, United States
ATTACH;FMTTYPE=image/jpeg:https://fbcchinatexas.com/wp-content/uploads/2023/07/crosswords-event-3.jpg
ORGANIZER;CN="FBC China%2C TX":MAILTO:fbcchinasocial@gmail.com
END:VEVENT
BEGIN:VEVENT
DTSTART;TZID=America/Chicago:20230927T180000
DTEND;TZID=America/Chicago:20230927T183000
DTSTAMP:20260421T194518
CREATED:20230826T185857Z
LAST-MODIFIED:20230826T185857Z
UID:26004-1695837600-1695839400@fbcchinatexas.com
SUMMARY:Prayer Meeting
DESCRIPTION:A mid-week fellowship of prayer and spiritual strength! \nWednesday nights we gather to give ourselves and our church members a midweek boost. At 6 pm in the church sanctuary\, there is typically a brief Bible study followed by an intense time of prayer. Prayer requests should be given to Cecil Wright by Tuesday to be included in the provided materials.
URL:https://fbcchinatexas.com/event/prayer-meeting-13/
LOCATION:FBC China\, TX\, 607 N Broadway\, China\, TX\, 77613\, United States
ATTACH;FMTTYPE=image/jpeg:https://fbcchinatexas.com/wp-content/uploads/2023/07/prayer-meeting-event-3.jpg
ORGANIZER;CN="FBC China%2C TX":MAILTO:fbcchinasocial@gmail.com
END:VEVENT
BEGIN:VEVENT
DTSTART;TZID=America/Chicago:20230920T180000
DTEND;TZID=America/Chicago:20230920T190000
DTSTAMP:20260421T194518
CREATED:20230826T185832Z
LAST-MODIFIED:20230826T185832Z
UID:26002-1695232800-1695236400@fbcchinatexas.com
SUMMARY:Crosswords
DESCRIPTION:A mid-week pick me up for kids and youth! \nA high-energy ministry for kids and youth from kindergarten through 12th grade. Kids learn of God’s unconditional love and salvation through Jesus. It’s an hour of fun\, faith\, and food! Activities begin at 6 pm and conclude at 7 pm. See you there!!
URL:https://fbcchinatexas.com/event/crosswords-12/
LOCATION:FBC China\, TX\, 607 N Broadway\, China\, TX\, 77613\, United States
ATTACH;FMTTYPE=image/jpeg:https://fbcchinatexas.com/wp-content/uploads/2023/07/crosswords-event-3.jpg
ORGANIZER;CN="FBC China%2C TX":MAILTO:fbcchinasocial@gmail.com
END:VEVENT
BEGIN:VEVENT
DTSTART;TZID=America/Chicago:20230920T180000
DTEND;TZID=America/Chicago:20230920T183000
DTSTAMP:20260421T194518
CREATED:20230826T185807Z
LAST-MODIFIED:20230826T185807Z
UID:26000-1695232800-1695234600@fbcchinatexas.com
SUMMARY:Prayer Meeting
DESCRIPTION:A mid-week fellowship of prayer and spiritual strength! \nWednesday nights we gather to give ourselves and our church members a midweek boost. At 6 pm in the church sanctuary\, there is typically a brief Bible study followed by an intense time of prayer. Prayer requests should be given to Cecil Wright by Tuesday to be included in the provided materials.
URL:https://fbcchinatexas.com/event/prayer-meeting-12/
LOCATION:FBC China\, TX\, 607 N Broadway\, China\, TX\, 77613\, United States
ATTACH;FMTTYPE=image/jpeg:https://fbcchinatexas.com/wp-content/uploads/2023/07/prayer-meeting-event-3.jpg
ORGANIZER;CN="FBC China%2C TX":MAILTO:fbcchinasocial@gmail.com
END:VEVENT
BEGIN:VEVENT
DTSTART;TZID=America/Chicago:20230913T180000
DTEND;TZID=America/Chicago:20230913T190000
DTSTAMP:20260421T194518
CREATED:20230826T185745Z
LAST-MODIFIED:20230826T185745Z
UID:25998-1694628000-1694631600@fbcchinatexas.com
SUMMARY:Crosswords
DESCRIPTION:A mid-week pick me up for kids and youth! \nA high-energy ministry for kids and youth from kindergarten through 12th grade. Kids learn of God’s unconditional love and salvation through Jesus. It’s an hour of fun\, faith\, and food! Activities begin at 6 pm and conclude at 7 pm. See you there!!
URL:https://fbcchinatexas.com/event/crosswords-11/
LOCATION:FBC China\, TX\, 607 N Broadway\, China\, TX\, 77613\, United States
ATTACH;FMTTYPE=image/jpeg:https://fbcchinatexas.com/wp-content/uploads/2023/07/crosswords-event-3.jpg
ORGANIZER;CN="FBC China%2C TX":MAILTO:fbcchinasocial@gmail.com
END:VEVENT
BEGIN:VEVENT
DTSTART;TZID=America/Chicago:20230913T180000
DTEND;TZID=America/Chicago:20230913T183000
DTSTAMP:20260421T194518
CREATED:20230826T185724Z
LAST-MODIFIED:20230826T185724Z
UID:25996-1694628000-1694629800@fbcchinatexas.com
SUMMARY:Prayer Meeting
DESCRIPTION:A mid-week fellowship of prayer and spiritual strength! \nWednesday nights we gather to give ourselves and our church members a midweek boost. At 6 pm in the church sanctuary\, there is typically a brief Bible study followed by an intense time of prayer. Prayer requests should be given to Cecil Wright by Tuesday to be included in the provided materials.
URL:https://fbcchinatexas.com/event/prayer-meeting-11/
LOCATION:FBC China\, TX\, 607 N Broadway\, China\, TX\, 77613\, United States
ATTACH;FMTTYPE=image/jpeg:https://fbcchinatexas.com/wp-content/uploads/2023/07/prayer-meeting-event-3.jpg
ORGANIZER;CN="FBC China%2C TX":MAILTO:fbcchinasocial@gmail.com
END:VEVENT
BEGIN:VEVENT
DTSTART;TZID=America/Chicago:20230906T180000
DTEND;TZID=America/Chicago:20230906T190000
DTSTAMP:20260421T194518
CREATED:20230826T185659Z
LAST-MODIFIED:20230826T185659Z
UID:25994-1694023200-1694026800@fbcchinatexas.com
SUMMARY:Crosswords
DESCRIPTION:A mid-week pick me up for kids and youth! \nA high-energy ministry for kids and youth from kindergarten through 12th grade. Kids learn of God’s unconditional love and salvation through Jesus. It’s an hour of fun\, faith\, and food! Activities begin at 6 pm and conclude at 7 pm. See you there!!
URL:https://fbcchinatexas.com/event/crosswords-10/
LOCATION:FBC China\, TX\, 607 N Broadway\, China\, TX\, 77613\, United States
ATTACH;FMTTYPE=image/jpeg:https://fbcchinatexas.com/wp-content/uploads/2023/07/crosswords-event-3.jpg
ORGANIZER;CN="FBC China%2C TX":MAILTO:fbcchinasocial@gmail.com
END:VEVENT
BEGIN:VEVENT
DTSTART;TZID=America/Chicago:20230906T180000
DTEND;TZID=America/Chicago:20230906T183000
DTSTAMP:20260421T194518
CREATED:20230826T185619Z
LAST-MODIFIED:20230826T185631Z
UID:25992-1694023200-1694025000@fbcchinatexas.com
SUMMARY:Prayer Meeting
DESCRIPTION:A mid-week fellowship of prayer and spiritual strength! \nWednesday nights we gather to give ourselves and our church members a midweek boost. At 6 pm in the church sanctuary\, there is typically a brief Bible study followed by an intense time of prayer. Prayer requests should be given to Cecil Wright by Tuesday to be included in the provided materials.
URL:https://fbcchinatexas.com/event/prayer-meeting-10/
LOCATION:FBC China\, TX\, 607 N Broadway\, China\, TX\, 77613\, United States
ATTACH;FMTTYPE=image/jpeg:https://fbcchinatexas.com/wp-content/uploads/2023/07/prayer-meeting-event-3.jpg
ORGANIZER;CN="FBC China%2C TX":MAILTO:fbcchinasocial@gmail.com
END:VEVENT
BEGIN:VEVENT
DTSTART;TZID=America/Chicago:20230830T180000
DTEND;TZID=America/Chicago:20230830T190000
DTSTAMP:20260421T194518
CREATED:20230807T163148Z
LAST-MODIFIED:20230826T190114Z
UID:25979-1693418400-1693422000@fbcchinatexas.com
SUMMARY:Back to School Bash
DESCRIPTION:Join us as we celebrate the return of the new school year! There will be pizza\, ice cream\, and games for everyone to enjoy! Kids grades K-12 are welcome to attend. Events will be held in church fellowship hall.
URL:https://fbcchinatexas.com/event/back-to-school-bash/
LOCATION:FBC China\, TX\, 607 N Broadway\, China\, TX\, 77613\, United States
ATTACH;FMTTYPE=image/jpeg:https://fbcchinatexas.com/wp-content/uploads/2023/08/BTS-event.jpg
ORGANIZER;CN="FBC China%2C TX":MAILTO:fbcchinasocial@gmail.com
END:VEVENT
BEGIN:VEVENT
DTSTART;TZID=America/Chicago:20230830T180000
DTEND;TZID=America/Chicago:20230830T183000
DTSTAMP:20260421T194518
CREATED:20230804T204725Z
LAST-MODIFIED:20230804T204725Z
UID:25970-1693418400-1693420200@fbcchinatexas.com
SUMMARY:Prayer Meeting
DESCRIPTION:A mid-week fellowship of prayer and spiritual strength! \nWednesday nights we gather to give ourselves and our church members a midweek boost. At 6 pm in the church sanctuary\, there is typically a brief Bible study followed by an intense time of prayer. Prayer requests should be given to Cecil Wright by Tuesday to be included in the provided materials.
URL:https://fbcchinatexas.com/event/prayer-meeting-9/
LOCATION:FBC China\, TX\, 607 N Broadway\, China\, TX\, 77613\, United States
ATTACH;FMTTYPE=image/jpeg:https://fbcchinatexas.com/wp-content/uploads/2023/07/prayer-meeting-event-3.jpg
ORGANIZER;CN="FBC China%2C TX":MAILTO:fbcchinasocial@gmail.com
END:VEVENT
BEGIN:VEVENT
DTSTART;TZID=America/Chicago:20230823T180000
DTEND;TZID=America/Chicago:20230823T190000
DTSTAMP:20260421T194518
CREATED:20230804T204702Z
LAST-MODIFIED:20230804T204702Z
UID:25968-1692813600-1692817200@fbcchinatexas.com
SUMMARY:Crosswords
DESCRIPTION:A mid-week pick me up for kids and youth! \nA high-energy ministry for kids and youth from kindergarten through 12th grade. Kids learn of God’s unconditional love and salvation through Jesus. It’s an hour of fun\, faith\, and food! Activities begin at 6 pm and conclude at 7 pm. See you there!!
URL:https://fbcchinatexas.com/event/crosswords-9/
LOCATION:FBC China\, TX\, 607 N Broadway\, China\, TX\, 77613\, United States
ATTACH;FMTTYPE=image/jpeg:https://fbcchinatexas.com/wp-content/uploads/2023/07/crosswords-event-3.jpg
ORGANIZER;CN="FBC China%2C TX":MAILTO:fbcchinasocial@gmail.com
END:VEVENT
BEGIN:VEVENT
DTSTART;TZID=America/Chicago:20230823T180000
DTEND;TZID=America/Chicago:20230823T183000
DTSTAMP:20260421T194518
CREATED:20230804T204641Z
LAST-MODIFIED:20230804T204641Z
UID:25966-1692813600-1692815400@fbcchinatexas.com
SUMMARY:Prayer Meeting
DESCRIPTION:A mid-week fellowship of prayer and spiritual strength! \nWednesday nights we gather to give ourselves and our church members a midweek boost. At 6 pm in the church sanctuary\, there is typically a brief Bible study followed by an intense time of prayer. Prayer requests should be given to Cecil Wright by Tuesday to be included in the provided materials.
URL:https://fbcchinatexas.com/event/prayer-meeting-8/
LOCATION:FBC China\, TX\, 607 N Broadway\, China\, TX\, 77613\, United States
ATTACH;FMTTYPE=image/jpeg:https://fbcchinatexas.com/wp-content/uploads/2023/07/prayer-meeting-event-3.jpg
ORGANIZER;CN="FBC China%2C TX":MAILTO:fbcchinasocial@gmail.com
END:VEVENT
BEGIN:VEVENT
DTSTART;TZID=America/Chicago:20230816T180000
DTEND;TZID=America/Chicago:20230816T190000
DTSTAMP:20260421T194518
CREATED:20230804T204616Z
LAST-MODIFIED:20230804T204616Z
UID:25964-1692208800-1692212400@fbcchinatexas.com
SUMMARY:Crosswords
DESCRIPTION:A mid-week pick me up for kids and youth! \nA high-energy ministry for kids and youth from kindergarten through 12th grade. Kids learn of God’s unconditional love and salvation through Jesus. It’s an hour of fun\, faith\, and food! Activities begin at 6 pm and conclude at 7 pm. See you there!!
URL:https://fbcchinatexas.com/event/crosswords-8/
LOCATION:FBC China\, TX\, 607 N Broadway\, China\, TX\, 77613\, United States
ATTACH;FMTTYPE=image/jpeg:https://fbcchinatexas.com/wp-content/uploads/2023/07/crosswords-event-3.jpg
ORGANIZER;CN="FBC China%2C TX":MAILTO:fbcchinasocial@gmail.com
END:VEVENT
BEGIN:VEVENT
DTSTART;TZID=America/Chicago:20230816T180000
DTEND;TZID=America/Chicago:20230816T183000
DTSTAMP:20260421T194518
CREATED:20230804T204544Z
LAST-MODIFIED:20230804T204544Z
UID:25962-1692208800-1692210600@fbcchinatexas.com
SUMMARY:Prayer Meeting
DESCRIPTION:A mid-week fellowship of prayer and spiritual strength! \nWednesday nights we gather to give ourselves and our church members a midweek boost. At 6 pm in the church sanctuary\, there is typically a brief Bible study followed by an intense time of prayer. Prayer requests should be given to Cecil Wright by Tuesday to be included in the provided materials.
URL:https://fbcchinatexas.com/event/prayer-meeting-7/
LOCATION:FBC China\, TX\, 607 N Broadway\, China\, TX\, 77613\, United States
ATTACH;FMTTYPE=image/jpeg:https://fbcchinatexas.com/wp-content/uploads/2023/07/prayer-meeting-event-3.jpg
ORGANIZER;CN="FBC China%2C TX":MAILTO:fbcchinasocial@gmail.com
END:VEVENT
BEGIN:VEVENT
DTSTART;TZID=America/Chicago:20230809T180000
DTEND;TZID=America/Chicago:20230809T190000
DTSTAMP:20260421T194518
CREATED:20230804T204525Z
LAST-MODIFIED:20230804T204525Z
UID:25960-1691604000-1691607600@fbcchinatexas.com
SUMMARY:Crosswords
DESCRIPTION:A mid-week pick me up for kids and youth! \nA high-energy ministry for kids and youth from kindergarten through 12th grade. Kids learn of God’s unconditional love and salvation through Jesus. It’s an hour of fun\, faith\, and food! Activities begin at 6 pm and conclude at 7 pm. See you there!!
URL:https://fbcchinatexas.com/event/crosswords-7/
LOCATION:FBC China\, TX\, 607 N Broadway\, China\, TX\, 77613\, United States
ATTACH;FMTTYPE=image/jpeg:https://fbcchinatexas.com/wp-content/uploads/2023/07/crosswords-event-3.jpg
ORGANIZER;CN="FBC China%2C TX":MAILTO:fbcchinasocial@gmail.com
END:VEVENT
BEGIN:VEVENT
DTSTART;TZID=America/Chicago:20230809T180000
DTEND;TZID=America/Chicago:20230809T183000
DTSTAMP:20260421T194518
CREATED:20230804T204500Z
LAST-MODIFIED:20230804T204500Z
UID:25958-1691604000-1691605800@fbcchinatexas.com
SUMMARY:Prayer Meeting
DESCRIPTION:A mid-week fellowship of prayer and spiritual strength! \nWednesday nights we gather to give ourselves and our church members a midweek boost. At 6 pm in the church sanctuary\, there is typically a brief Bible study followed by an intense time of prayer. Prayer requests should be given to Cecil Wright by Tuesday to be included in the provided materials.
URL:https://fbcchinatexas.com/event/prayer-meeting-6/
LOCATION:FBC China\, TX\, 607 N Broadway\, China\, TX\, 77613\, United States
ATTACH;FMTTYPE=image/jpeg:https://fbcchinatexas.com/wp-content/uploads/2023/07/prayer-meeting-event-3.jpg
ORGANIZER;CN="FBC China%2C TX":MAILTO:fbcchinasocial@gmail.com
END:VEVENT
BEGIN:VEVENT
DTSTART;TZID=America/Chicago:20230806T120000
DTEND;TZID=America/Chicago:20230806T130000
DTSTAMP:20260421T194518
CREATED:20230720T202401Z
LAST-MODIFIED:20230721T152519Z
UID:25622-1691323200-1691326800@fbcchinatexas.com
SUMMARY:PotLuck Lunch
DESCRIPTION:A special meal for us to gather\, eat\, and fellowship!\n \nOn August 6th\, after worship service\, the church will have a Pot Luck Lunch in the fellowship hall. You are welcome to bring a special dish or dessert for the event. Also\, our new Pastor Logan Koontz will be with us so make sure you stop by and welcome him and his family to our church community!
URL:https://fbcchinatexas.com/event/pot-luck-lunch/
LOCATION:FBC China\, TX\, 607 N Broadway\, China\, TX\, 77613\, United States
ATTACH;FMTTYPE=image/jpeg:https://fbcchinatexas.com/wp-content/uploads/2023/07/potluck-event.jpg
ORGANIZER;CN="FBC China%2C TX":MAILTO:fbcchinasocial@gmail.com
END:VEVENT
BEGIN:VEVENT
DTSTART;TZID=America/Chicago:20230802T180000
DTEND;TZID=America/Chicago:20230802T190000
DTSTAMP:20260421T194518
CREATED:20230703T024350Z
LAST-MODIFIED:20230719T192021Z
UID:23950-1690999200-1691002800@fbcchinatexas.com
SUMMARY:Crosswords
DESCRIPTION:A mid-week pick me up for kids and youth! \nA high-energy ministry for kids and youth from kindergarten through 12th grade. Kids learn of God’s unconditional love and salvation through Jesus. It’s an hour of fun\, faith\, and food! Activities begin at 6 pm and conclude at 7 pm. See you there!!
URL:https://fbcchinatexas.com/event/crosswords-6/
LOCATION:FBC China\, TX\, 607 N Broadway\, China\, TX\, 77613\, United States
ATTACH;FMTTYPE=image/jpeg:https://fbcchinatexas.com/wp-content/uploads/2023/07/crosswords-event-3.jpg
ORGANIZER;CN="FBC China%2C TX":MAILTO:fbcchinasocial@gmail.com
END:VEVENT
BEGIN:VEVENT
DTSTART;TZID=America/Chicago:20230802T180000
DTEND;TZID=America/Chicago:20230802T183000
DTSTAMP:20260421T194518
CREATED:20230703T024328Z
LAST-MODIFIED:20230718T010441Z
UID:23948-1690999200-1691001000@fbcchinatexas.com
SUMMARY:Prayer Meeting
DESCRIPTION:A mid-week fellowship of prayer and spiritual strength! \nWednesday nights we gather to give ourselves and our church members a midweek boost. At 6 pm in the church sanctuary\, there is typically a brief Bible study followed by an intense time of prayer. Prayer requests should be given to Cecil Wright by Tuesday to be included in the provided materials.
URL:https://fbcchinatexas.com/event/prayer-meeting-5/
LOCATION:FBC China\, TX\, 607 N Broadway\, China\, TX\, 77613\, United States
ATTACH;FMTTYPE=image/jpeg:https://fbcchinatexas.com/wp-content/uploads/2023/07/prayer-meeting-event-3.jpg
ORGANIZER;CN="FBC China%2C TX":MAILTO:fbcchinasocial@gmail.com
END:VEVENT
BEGIN:VEVENT
DTSTART;TZID=America/Chicago:20230726T180000
DTEND;TZID=America/Chicago:20230726T190000
DTSTAMP:20260421T194518
CREATED:20230703T024250Z
LAST-MODIFIED:20230719T200658Z
UID:23946-1690394400-1690398000@fbcchinatexas.com
SUMMARY:Crosswords
DESCRIPTION:A mid-week pick me up for kids and youth! \nA high-energy ministry for kids and youth from kindergarten through 12th grade. Kids learn of God’s unconditional love and salvation through Jesus. It’s an hour of fun\, faith\, and food! Activities begin at 6 pm and conclude at 7 pm. See you there!!
URL:https://fbcchinatexas.com/event/crosswords-5/
LOCATION:FBC China\, TX\, 607 N Broadway\, China\, TX\, 77613\, United States
ATTACH;FMTTYPE=image/jpeg:https://fbcchinatexas.com/wp-content/uploads/2023/07/crosswords-event-3.jpg
ORGANIZER;CN="FBC China%2C TX":MAILTO:fbcchinasocial@gmail.com
END:VEVENT
BEGIN:VEVENT
DTSTART;TZID=America/Chicago:20230726T180000
DTEND;TZID=America/Chicago:20230726T183000
DTSTAMP:20260421T194518
CREATED:20230703T024225Z
LAST-MODIFIED:20230718T010452Z
UID:23944-1690394400-1690396200@fbcchinatexas.com
SUMMARY:Prayer Meeting
DESCRIPTION:A mid-week fellowship of prayer and spiritual strength! \nWednesday nights we gather to give ourselves and our church members a midweek boost. At 6 pm in the church sanctuary\, there is typically a brief Bible study followed by an intense time of prayer. Prayer requests should be given to Cecil Wright by Tuesday to be included in the provided materials.
URL:https://fbcchinatexas.com/event/prayer-meeting-4/
LOCATION:FBC China\, TX\, 607 N Broadway\, China\, TX\, 77613\, United States
ATTACH;FMTTYPE=image/jpeg:https://fbcchinatexas.com/wp-content/uploads/2023/07/prayer-meeting-event-3.jpg
ORGANIZER;CN="FBC China%2C TX":MAILTO:fbcchinasocial@gmail.com
END:VEVENT
BEGIN:VEVENT
DTSTART;TZID=America/Chicago:20230719T180000
DTEND;TZID=America/Chicago:20230719T190000
DTSTAMP:20260421T194518
CREATED:20230703T024203Z
LAST-MODIFIED:20230718T005444Z
UID:23942-1689789600-1689793200@fbcchinatexas.com
SUMMARY:Crosswords
DESCRIPTION:A mid-week pick me up for kids and youth! \nA high-energy ministry for kids and youth from kindergarten through 12th grade. Kids learn of God’s unconditional love and salvation through Jesus. It’s an hour of fun\, faith\, and food! Activities begin at 6 pm and conclude at 7 pm. See you there!!
URL:https://fbcchinatexas.com/event/crosswords-4/
LOCATION:FBC China\, TX\, 607 N Broadway\, China\, TX\, 77613\, United States
ATTACH;FMTTYPE=image/jpeg:https://fbcchinatexas.com/wp-content/uploads/2023/07/crosswords-event-3.jpg
ORGANIZER;CN="FBC China%2C TX":MAILTO:fbcchinasocial@gmail.com
END:VEVENT
BEGIN:VEVENT
DTSTART;TZID=America/Chicago:20230719T180000
DTEND;TZID=America/Chicago:20230719T183000
DTSTAMP:20260421T194518
CREATED:20230703T024150Z
LAST-MODIFIED:20230718T010505Z
UID:23940-1689789600-1689791400@fbcchinatexas.com
SUMMARY:Prayer Meeting
DESCRIPTION:A mid-week fellowship of prayer and spiritual strength! \nWednesday nights we gather to give ourselves and our church members a midweek boost. At 6 pm in the church sanctuary\, there is typically a brief Bible study followed by an intense time of prayer. Prayer requests should be given to Cecil Wright by Tuesday to be included in the provided materials.
URL:https://fbcchinatexas.com/event/prayer-meeting-3/
LOCATION:FBC China\, TX\, 607 N Broadway\, China\, TX\, 77613\, United States
ATTACH;FMTTYPE=image/jpeg:https://fbcchinatexas.com/wp-content/uploads/2023/07/prayer-meeting-event-3.jpg
ORGANIZER;CN="FBC China%2C TX":MAILTO:fbcchinasocial@gmail.com
END:VEVENT
BEGIN:VEVENT
DTSTART;TZID=America/Chicago:20230712T180000
DTEND;TZID=America/Chicago:20230712T190000
DTSTAMP:20260421T194518
CREATED:20230703T024133Z
LAST-MODIFIED:20230718T005501Z
UID:23938-1689184800-1689188400@fbcchinatexas.com
SUMMARY:Crosswords
DESCRIPTION:A mid-week pick me up for kids and youth! \nA high-energy ministry for kids and youth from kindergarten through 12th grade. Kids learn of God’s unconditional love and salvation through Jesus. It’s an hour of fun\, faith\, and food! Activities begin at 6 pm and conclude at 7 pm. See you there!!
URL:https://fbcchinatexas.com/event/crosswords-3/
LOCATION:FBC China\, TX\, 607 N Broadway\, China\, TX\, 77613\, United States
ATTACH;FMTTYPE=image/jpeg:https://fbcchinatexas.com/wp-content/uploads/2023/07/crosswords-event-3.jpg
ORGANIZER;CN="FBC China%2C TX":MAILTO:fbcchinasocial@gmail.com
END:VEVENT
END:VCALENDAR